BEGIN:VCALENDAR
VERSION:2.0
PRODID:-//Yorktown Lacrosse - ECPv6.15.20//NONSGML v1.0//EN
CALSCALE:GREGORIAN
METHOD:PUBLISH
X-ORIGINAL-URL:https://yorktownlacrosse.com
X-WR-CALDESC:Events for Yorktown Lacrosse
REFRESH-INTERVAL;VALUE=DURATION:PT1H
X-Robots-Tag:noindex
X-PUBLISHED-TTL:PT1H
BEGIN:VTIMEZONE
TZID:America/New_York
BEGIN:DAYLIGHT
TZOFFSETFROM:-0500
TZOFFSETTO:-0400
TZNAME:EDT
DTSTART:20250309T070000
END:DAYLIGHT
BEGIN:STANDARD
TZOFFSETFROM:-0400
TZOFFSETTO:-0500
TZNAME:EST
DTSTART:20251102T060000
END:STANDARD
BEGIN:DAYLIGHT
TZOFFSETFROM:-0500
TZOFFSETTO:-0400
TZNAME:EDT
DTSTART:20260308T070000
END:DAYLIGHT
BEGIN:STANDARD
TZOFFSETFROM:-0400
TZOFFSETTO:-0500
TZNAME:EST
DTSTART:20261101T060000
END:STANDARD
BEGIN:DAYLIGHT
TZOFFSETFROM:-0500
TZOFFSETTO:-0400
TZNAME:EDT
DTSTART:20270314T070000
END:DAYLIGHT
BEGIN:STANDARD
TZOFFSETFROM:-0400
TZOFFSETTO:-0500
TZNAME:EST
DTSTART:20271107T060000
END:STANDARD
END:VTIMEZONE
BEGIN:VEVENT
DTSTART;TZID=America/New_York:20260226T170000
DTEND;TZID=America/New_York:20260226T191500
DTSTAMP:20260420T162829
CREATED:20260204T234834Z
LAST-MODIFIED:20260222T032732Z
UID:10000254-1772125200-1772133300@yorktownlacrosse.com
SUMMARY:Tryouts
DESCRIPTION:Boys Lacrosse – February 23-27 (8th-12th graders) – Tryouts will be as follows. \nAll students must ride the buses to and from tryouts! \nMonday\, Feb. 23 – meet in cafeteria at 5:45 pm then bus to Longbridge for tryouts 7:15-8:45 pm (return bus thereafter each day) \nTuesday\, Feb. 24 – 5 pm bus with 5:45-7:15 practice at Longbridge \nWednesday\, Feb. 25 – 5:45 pm bus (watch end of Marymount game) with 7:15-8:45 pm practice at Longbridge \nThursday\, Feb. 26 – 5 pm bus with 5:45-7:15 pm practice at Longbridge \nFriday\, Feb. 27 – 6:45 pm bus with 7:15-8:45 pm practice at TJ upper \nRegistration required – click here for details: https://www.yorktownsports.org/main/otherad?contentID=55918744
URL:https://yorktownlacrosse.com/event/boys-lacrosse-tryouts-4/
LOCATION:Long Bridge Park\, 475 Long Bridge Dr.\, Arlington\, VA\, 22202\, United States
CATEGORIES:Boys JV Schedule,Boys JV Tryouts,Boys Schedule,Boys Tryouts,Boys Varsity Schedule,Boys Varsity Tryouts,Calendar
END:VEVENT
END:VCALENDAR