BEGIN:VCALENDAR
VERSION:2.0
PRODID:-//Yorktown Lacrosse - ECPv6.15.20//NONSGML v1.0//EN
CALSCALE:GREGORIAN
METHOD:PUBLISH
X-ORIGINAL-URL:https://yorktownlacrosse.com
X-WR-CALDESC:Events for Yorktown Lacrosse
REFRESH-INTERVAL;VALUE=DURATION:PT1H
X-Robots-Tag:noindex
X-PUBLISHED-TTL:PT1H
BEGIN:VTIMEZONE
TZID:America/New_York
BEGIN:DAYLIGHT
TZOFFSETFROM:-0500
TZOFFSETTO:-0400
TZNAME:EDT
DTSTART:20250309T070000
END:DAYLIGHT
BEGIN:STANDARD
TZOFFSETFROM:-0400
TZOFFSETTO:-0500
TZNAME:EST
DTSTART:20251102T060000
END:STANDARD
BEGIN:DAYLIGHT
TZOFFSETFROM:-0500
TZOFFSETTO:-0400
TZNAME:EDT
DTSTART:20260308T070000
END:DAYLIGHT
BEGIN:STANDARD
TZOFFSETFROM:-0400
TZOFFSETTO:-0500
TZNAME:EST
DTSTART:20261101T060000
END:STANDARD
BEGIN:DAYLIGHT
TZOFFSETFROM:-0500
TZOFFSETTO:-0400
TZNAME:EDT
DTSTART:20270314T070000
END:DAYLIGHT
BEGIN:STANDARD
TZOFFSETFROM:-0400
TZOFFSETTO:-0500
TZNAME:EST
DTSTART:20271107T060000
END:STANDARD
END:VTIMEZONE
BEGIN:VEVENT
DTSTART;TZID=America/New_York:20260317T073000
DTEND;TZID=America/New_York:20260317T080000
DTSTAMP:20260420T181759
CREATED:20260316T175133Z
LAST-MODIFIED:20260406T010509Z
UID:10000274-1773732600-1773734400@yorktownlacrosse.com
SUMMARY:Varsity Breakfast
DESCRIPTION:Get fueled up for the first game of the season! \nLocation: Owen Lefton’s house
URL:https://yorktownlacrosse.com/event/varsity-breakfast/
LOCATION:VA
CATEGORIES:Boys Schedule,Boys Varsity Schedule,Calendar,Team Event
END:VEVENT
BEGIN:VEVENT
DTSTART;TZID=America/New_York:20260317T170000
DTEND;TZID=America/New_York:20260317T190000
DTSTAMP:20260420T181759
CREATED:20260316T213828Z
LAST-MODIFIED:20260406T010509Z
UID:10000275-1773766800-1773774000@yorktownlacrosse.com
SUMMARY:JV Only Practice at Long Bridge
DESCRIPTION:Bus leaves at 5PM\, practice from 5:30PM – 7:00PM
URL:https://yorktownlacrosse.com/event/jv-only-practice-at-long-bridge/
LOCATION:Long Bridge Park\, 475 Long Bridge Dr.\, Arlington\, VA\, 22202\, United States
CATEGORIES:Boys JV Schedule,Boys Schedule,Calendar,Practice
END:VEVENT
BEGIN:VEVENT
DTSTART;TZID=America/New_York:20260317T174500
DTEND;TZID=America/New_York:20260317T190000
DTSTAMP:20260420T181759
CREATED:20260128T182530Z
LAST-MODIFIED:20260406T010509Z
UID:10000222-1773769500-1773774000@yorktownlacrosse.com
SUMMARY:Varsity Game AWAY vs. Robinson
DESCRIPTION:Tuesday\, March 17 \nVarsity Double Header at Robinson\nBoys Varsity Lacrosse – 5:45pm\nGirls Varsity Lacrosse – 7:15pm \nJV Boys will not play on March 17 due to officials availability. We are looking to reschedule this game.
URL:https://yorktownlacrosse.com/event/blax-varsity-game-home-vs-robinson/
LOCATION:Robinson High School\, 5035 Sideburn Rd.\, Fairfax\, VA\, 22032
CATEGORIES:Boys Schedule,Boys Varsity Schedule,Calendar,Game
END:VEVENT
END:VCALENDAR