BEGIN:VCALENDAR
VERSION:2.0
PRODID:-//Yorktown Lacrosse - ECPv6.15.20//NONSGML v1.0//EN
CALSCALE:GREGORIAN
METHOD:PUBLISH
X-ORIGINAL-URL:https://yorktownlacrosse.com
X-WR-CALDESC:Events for Yorktown Lacrosse
REFRESH-INTERVAL;VALUE=DURATION:PT1H
X-Robots-Tag:noindex
X-PUBLISHED-TTL:PT1H
BEGIN:VTIMEZONE
TZID:America/New_York
BEGIN:DAYLIGHT
TZOFFSETFROM:-0500
TZOFFSETTO:-0400
TZNAME:EDT
DTSTART:20230312T070000
END:DAYLIGHT
BEGIN:STANDARD
TZOFFSETFROM:-0400
TZOFFSETTO:-0500
TZNAME:EST
DTSTART:20231105T060000
END:STANDARD
BEGIN:DAYLIGHT
TZOFFSETFROM:-0500
TZOFFSETTO:-0400
TZNAME:EDT
DTSTART:20240310T070000
END:DAYLIGHT
BEGIN:STANDARD
TZOFFSETFROM:-0400
TZOFFSETTO:-0500
TZNAME:EST
DTSTART:20241103T060000
END:STANDARD
BEGIN:DAYLIGHT
TZOFFSETFROM:-0500
TZOFFSETTO:-0400
TZNAME:EDT
DTSTART:20250309T070000
END:DAYLIGHT
BEGIN:STANDARD
TZOFFSETFROM:-0400
TZOFFSETTO:-0500
TZNAME:EST
DTSTART:20251102T060000
END:STANDARD
END:VTIMEZONE
BEGIN:VEVENT
DTSTART;TZID=America/New_York:20240430T181500
DTEND;TZID=America/New_York:20240430T191500
DTSTAMP:20260420T211032
CREATED:20240209T201654Z
LAST-MODIFIED:20240501T155037Z
UID:10000039-1714500900-1714504500@yorktownlacrosse.com
SUMMARY:Varsity Game HOME vs. Thomas Jefferson Colonials (W 16 - 2)
DESCRIPTION:Win 16 – 2 vs. Thomas Jefferson Colonials |\nVideo: YHS Boosters YouTube |\nROSTER
URL:https://yorktownlacrosse.com/event/home-thomas-jefferson-colonials-2/
LOCATION:Greenbrier Stadium/YHS Field\, 5200 Yorktown Blvd.\, Arlington\, VA\, 22207
CATEGORIES:Boys Varsity Schedule,Game
END:VEVENT
END:VCALENDAR