BEGIN:VCALENDAR
VERSION:2.0
PRODID:-//Yorktown Lacrosse - ECPv6.15.20//NONSGML v1.0//EN
CALSCALE:GREGORIAN
METHOD:PUBLISH
X-ORIGINAL-URL:https://yorktownlacrosse.com
X-WR-CALDESC:Events for Yorktown Lacrosse
REFRESH-INTERVAL;VALUE=DURATION:PT1H
X-Robots-Tag:noindex
X-PUBLISHED-TTL:PT1H
BEGIN:VTIMEZONE
TZID:America/New_York
BEGIN:DAYLIGHT
TZOFFSETFROM:-0500
TZOFFSETTO:-0400
TZNAME:EDT
DTSTART:20230312T070000
END:DAYLIGHT
BEGIN:STANDARD
TZOFFSETFROM:-0400
TZOFFSETTO:-0500
TZNAME:EST
DTSTART:20231105T060000
END:STANDARD
BEGIN:DAYLIGHT
TZOFFSETFROM:-0500
TZOFFSETTO:-0400
TZNAME:EDT
DTSTART:20240310T070000
END:DAYLIGHT
BEGIN:STANDARD
TZOFFSETFROM:-0400
TZOFFSETTO:-0500
TZNAME:EST
DTSTART:20241103T060000
END:STANDARD
BEGIN:DAYLIGHT
TZOFFSETFROM:-0500
TZOFFSETTO:-0400
TZNAME:EDT
DTSTART:20250309T070000
END:DAYLIGHT
BEGIN:STANDARD
TZOFFSETFROM:-0400
TZOFFSETTO:-0500
TZNAME:EST
DTSTART:20251102T060000
END:STANDARD
BEGIN:DAYLIGHT
TZOFFSETFROM:-0500
TZOFFSETTO:-0400
TZNAME:EDT
DTSTART:20260308T070000
END:DAYLIGHT
BEGIN:STANDARD
TZOFFSETFROM:-0400
TZOFFSETTO:-0500
TZNAME:EST
DTSTART:20261101T060000
END:STANDARD
END:VTIMEZONE
BEGIN:VEVENT
DTSTART;TZID=America/New_York:20240516T173000
DTEND;TZID=America/New_York:20240516T193000
DTSTAMP:20260421T130012
CREATED:20240224T214153Z
LAST-MODIFIED:20240517T153038Z
UID:10000065-1715880600-1715887800@yorktownlacrosse.com
SUMMARY:Northern Region Tournament - Varsity HOME vs. Oakton Cougars (W 13 - 3)
DESCRIPTION:Win 13 – 3 |\nVideo: YHS Boosters YouTube |\nOakton Varsity Roster
URL:https://yorktownlacrosse.com/event/varsity-northern-region-tournament/
LOCATION:Greenbrier Stadium/YHS Field\, 5200 Yorktown Blvd.\, Arlington\, VA\, 22207
CATEGORIES:Boys Varsity Schedule,Game
END:VEVENT
BEGIN:VEVENT
DTSTART;TZID=America/New_York:20240520T193000
DTEND;TZID=America/New_York:20240520T203000
DTSTAMP:20260421T130012
CREATED:20240224T214255Z
LAST-MODIFIED:20240523T153619Z
UID:10000066-1716233400-1716237000@yorktownlacrosse.com
SUMMARY:Northern Region Tournament - Varsity HOME vs. McLean Highlanders (L 7 - 12)
DESCRIPTION:Loss 7 – 12 |\nVideo:  YHS Boosters YouTube |\nMcLean Varsity Roster
URL:https://yorktownlacrosse.com/event/varsity-northern-region-tournament-2/
LOCATION:Greenbrier Stadium/YHS Field\, 5200 Yorktown Blvd.\, Arlington\, VA\, 22207
CATEGORIES:Boys Varsity Schedule,Game
END:VEVENT
BEGIN:VEVENT
DTSTART;TZID=America/New_York:20250319T174500
DTEND;TZID=America/New_York:20250319T184500
DTSTAMP:20260421T130012
CREATED:20250120T021719Z
LAST-MODIFIED:20250317T163154Z
UID:10000146-1742406300-1742409900@yorktownlacrosse.com
SUMMARY:BLAX JV Game HOME vs. Centreville
DESCRIPTION:ROSTER | NFHS Network Livestream (Subscription Required)
URL:https://yorktownlacrosse.com/event/blax-jv-game-home-vs-centreville/
LOCATION:Greenbrier Stadium/YHS Field\, 5200 Yorktown Blvd.\, Arlington\, VA\, 22207
CATEGORIES:Boys JV Schedule,Game
END:VEVENT
BEGIN:VEVENT
DTSTART;TZID=America/New_York:20250319T191500
DTEND;TZID=America/New_York:20250319T201500
DTSTAMP:20260421T130012
CREATED:20250119T235145Z
LAST-MODIFIED:20250317T163513Z
UID:10000105-1742411700-1742415300@yorktownlacrosse.com
SUMMARY:BLAX Varsity Game HOME vs. Centreville
DESCRIPTION:ROSTER | NFHS Network Livestream (Subscription Required)
URL:https://yorktownlacrosse.com/event/varsity-game-home-vs-centreville/
LOCATION:Greenbrier Stadium/YHS Field\, 5200 Yorktown Blvd.\, Arlington\, VA\, 22207
CATEGORIES:Boys Varsity Schedule,Game
END:VEVENT
BEGIN:VEVENT
DTSTART;TZID=America/New_York:20250321T174500
DTEND;TZID=America/New_York:20250321T184500
DTSTAMP:20260421T130012
CREATED:20250120T022013Z
LAST-MODIFIED:20250317T163917Z
UID:10000147-1742579100-1742582700@yorktownlacrosse.com
SUMMARY:BLAX JV Game AWAY vs. Robinson
DESCRIPTION:DEPART AT 4:00PM \nROSTER | NFHS Network Livestream (Subscription required)
URL:https://yorktownlacrosse.com/event/blax-jv-game-away-vs-robinson/
LOCATION:Robinson High School\, 5035 Sideburn Rd.\, Fairfax\, VA\, 22032
CATEGORIES:Boys JV Schedule,Game
END:VEVENT
BEGIN:VEVENT
DTSTART;TZID=America/New_York:20250321T191500
DTEND;TZID=America/New_York:20250321T201500
DTSTAMP:20260421T130012
CREATED:20250119T235305Z
LAST-MODIFIED:20250317T164300Z
UID:10000106-1742584500-1742588100@yorktownlacrosse.com
SUMMARY:BLAX Varsity Game AWAY vs. Robinson
DESCRIPTION:DEPART AT 5:30PM \nROSTER | NFHS Network Livestream (Subscription Required)
URL:https://yorktownlacrosse.com/event/varsity-game-away-vs-robinson/
LOCATION:Robinson High School\, 5035 Sideburn Rd.\, Fairfax\, VA\, 22032
CATEGORIES:Boys Varsity Schedule,Game
END:VEVENT
BEGIN:VEVENT
DTSTART;TZID=America/New_York:20250322T160000
DTEND;TZID=America/New_York:20250322T170000
DTSTAMP:20260421T130012
CREATED:20250120T022100Z
LAST-MODIFIED:20250317T164601Z
UID:10000148-1742659200-1742662800@yorktownlacrosse.com
SUMMARY:BLAX JV Game AWAY vs. Broadneck
DESCRIPTION:DEPART AT 2:00PM \nROSTER | NFHS Network Livestream (Subscription Required)
URL:https://yorktownlacrosse.com/event/blax-jv-game-away-vs-broadneck/
LOCATION:Broadneck High School\, 1265 Green Holly Dr.\, Annapolis\, MD\, 21409\, United States
CATEGORIES:Boys JV Schedule,Game
END:VEVENT
BEGIN:VEVENT
DTSTART;TZID=America/New_York:20250322T173000
DTEND;TZID=America/New_York:20250322T183000
DTSTAMP:20260421T130012
CREATED:20250119T235620Z
LAST-MODIFIED:20250317T164713Z
UID:10000107-1742664600-1742668200@yorktownlacrosse.com
SUMMARY:BLAX Varsity Game AWAY vs. Broadneck
DESCRIPTION:DEPART AT 3:30PM \nROSTER | NFHS Network Livestream (Subscription Required)
URL:https://yorktownlacrosse.com/event/varsity-game-away-vs-broadneck/
LOCATION:Broadneck High School\, 1265 Green Holly Dr.\, Annapolis\, MD\, 21409\, United States
CATEGORIES:Boys Varsity Schedule,Game
END:VEVENT
BEGIN:VEVENT
DTSTART;TZID=America/New_York:20250326T174500
DTEND;TZID=America/New_York:20250326T184500
DTSTAMP:20260421T130012
CREATED:20250120T022256Z
LAST-MODIFIED:20250330T214759Z
UID:10000149-1743011100-1743014700@yorktownlacrosse.com
SUMMARY:BLAX JV Game AWAY vs. Madison (at McLean)
DESCRIPTION:DEPART AT 4:15PM \nROSTER
URL:https://yorktownlacrosse.com/event/blax-jv-game-away-vs-madison-at-mclean/
LOCATION:McLean High School\, 1633 Davidson Road\, McLean\, 22101\, United States
CATEGORIES:Boys JV Schedule,Game
END:VEVENT
BEGIN:VEVENT
DTSTART;TZID=America/New_York:20250326T191500
DTEND;TZID=America/New_York:20250326T201500
DTSTAMP:20260421T130012
CREATED:20250120T002507Z
LAST-MODIFIED:20250320T153558Z
UID:10000108-1743016500-1743020100@yorktownlacrosse.com
SUMMARY:BLAX Varsity Game AWAY vs. Madison
DESCRIPTION:DEPART AT 5:45PM \nROSTER | NFHS Network Livestream (Subscription Required)
URL:https://yorktownlacrosse.com/event/varsity-game-away-vs-madison/
LOCATION:James Madison High School\, 2500 James Madison Dr\, Vienna\, VA\, 22181\, United States
CATEGORIES:Boys Varsity Schedule,Game
END:VEVENT
BEGIN:VEVENT
DTSTART;TZID=America/New_York:20250328T174500
DTEND;TZID=America/New_York:20250328T184500
DTSTAMP:20260421T130012
CREATED:20250120T022342Z
LAST-MODIFIED:20250330T214907Z
UID:10000150-1743183900-1743187500@yorktownlacrosse.com
SUMMARY:BLAX JV Game HOME vs. Langley (District Game)
DESCRIPTION:ROSTER
URL:https://yorktownlacrosse.com/event/blax-jv-game-home-vs-langley/
LOCATION:Greenbrier Stadium/YHS Field\, 5200 Yorktown Blvd.\, Arlington\, VA\, 22207
CATEGORIES:Boys JV Schedule,Game
END:VEVENT
BEGIN:VEVENT
DTSTART;TZID=America/New_York:20250328T191500
DTEND;TZID=America/New_York:20250328T201500
DTSTAMP:20260421T130012
CREATED:20250120T002557Z
LAST-MODIFIED:20250324T204736Z
UID:10000109-1743189300-1743192900@yorktownlacrosse.com
SUMMARY:BLAX Varsity Game HOME vs. Langley (District Game)
DESCRIPTION:ROSTER | NFHS Network Livestream (Subscription Required)
URL:https://yorktownlacrosse.com/event/varsity-game-home-vs-langley/
LOCATION:Greenbrier Stadium/YHS Field\, 5200 Yorktown Blvd.\, Arlington\, VA\, 22207
CATEGORIES:Boys Varsity Schedule,Game
END:VEVENT
BEGIN:VEVENT
DTSTART;TZID=America/New_York:20250403T174500
DTEND;TZID=America/New_York:20250403T184500
DTSTAMP:20260421T130012
CREATED:20250120T022415Z
LAST-MODIFIED:20250330T215051Z
UID:10000151-1743702300-1743705900@yorktownlacrosse.com
SUMMARY:BLAX JV Game HOME vs. Oakton
DESCRIPTION:ROSTER | NFHS Network Livestream (Subscription Required)
URL:https://yorktownlacrosse.com/event/blax-jv-game-home-vs-oakton/
LOCATION:Greenbrier Stadium/YHS Field\, 5200 Yorktown Blvd.\, Arlington\, VA\, 22207
CATEGORIES:Boys JV Schedule,Game
END:VEVENT
BEGIN:VEVENT
DTSTART;TZID=America/New_York:20250403T191500
DTEND;TZID=America/New_York:20250403T201500
DTSTAMP:20260421T130012
CREATED:20250120T002705Z
LAST-MODIFIED:20250330T215151Z
UID:10000110-1743707700-1743711300@yorktownlacrosse.com
SUMMARY:BLAX Varsity Game HOME vs. Oakton
DESCRIPTION:ROSTER | NFHS Network Livestream (Subscription Required)
URL:https://yorktownlacrosse.com/event/varsity-game-home-vs-oakton/
LOCATION:Greenbrier Stadium/YHS Field\, 5200 Yorktown Blvd.\, Arlington\, VA\, 22207
CATEGORIES:Boys Varsity Schedule,Game
END:VEVENT
BEGIN:VEVENT
DTSTART;TZID=America/New_York:20250405T110000
DTEND;TZID=America/New_York:20250405T120000
DTSTAMP:20260421T130012
CREATED:20250120T002801Z
LAST-MODIFIED:20250330T215221Z
UID:10000111-1743850800-1743854400@yorktownlacrosse.com
SUMMARY:BLAX Varsity Game AWAY vs. The Heights
DESCRIPTION:ROSTER
URL:https://yorktownlacrosse.com/event/varsity-game-away-vs-the-heights/
LOCATION:The Heights School\, 10400 Seven Locks Road\, Potomac\, MD\, 20854
CATEGORIES:Boys Varsity Schedule,Game
END:VEVENT
BEGIN:VEVENT
DTSTART;TZID=America/New_York:20250409T174500
DTEND;TZID=America/New_York:20250409T184500
DTSTAMP:20260421T130012
CREATED:20250120T022734Z
LAST-MODIFIED:20250409T213206Z
UID:10000152-1744220700-1744224300@yorktownlacrosse.com
SUMMARY:BLAX JV Game AWAY vs. West Springfield
DESCRIPTION:DEPART AT 4:00PM \nROSTER
URL:https://yorktownlacrosse.com/event/blax-jv-game-away-vs-west-springfield/
LOCATION:West Springfield High School\, 6100 Rolling Road\, West Springfield\, 22152\, United States
CATEGORIES:Boys JV Schedule,Game
END:VEVENT
BEGIN:VEVENT
DTSTART;TZID=America/New_York:20250409T191500
DTEND;TZID=America/New_York:20250409T201500
DTSTAMP:20260421T130012
CREATED:20250120T003206Z
LAST-MODIFIED:20250409T213327Z
UID:10000112-1744226100-1744229700@yorktownlacrosse.com
SUMMARY:BLAX Varsity Game AWAY vs. West Springfield
DESCRIPTION:DEPART AT 5:30PM \nROSTER | NFHS Network Livestream (Subscription Required)
URL:https://yorktownlacrosse.com/event/varsity-game-away-vs-west-springfield/
LOCATION:West Springfield High School\, 6100 Rolling Road\, West Springfield\, 22152\, United States
CATEGORIES:Boys Varsity Schedule,Game
END:VEVENT
BEGIN:VEVENT
DTSTART;TZID=America/New_York:20250423T174500
DTEND;TZID=America/New_York:20250423T184500
DTSTAMP:20260421T130012
CREATED:20250120T022951Z
LAST-MODIFIED:20250320T153142Z
UID:10000153-1745430300-1745433900@yorktownlacrosse.com
SUMMARY:BLAX JV Game AWAY vs. Wakefield (District Game)
DESCRIPTION:DEPART AT 4:15PM \nROSTER | Video
URL:https://yorktownlacrosse.com/event/blax-jv-game-away-vs-wakefield/
LOCATION:Wakefield High School\, 1325 S Dinwiddie Street\, Arlington\, 22206\, United States
CATEGORIES:Boys JV Schedule,Game
END:VEVENT
BEGIN:VEVENT
DTSTART;TZID=America/New_York:20250423T191500
DTEND;TZID=America/New_York:20250423T201500
DTSTAMP:20260421T130012
CREATED:20250120T003414Z
LAST-MODIFIED:20250320T153153Z
UID:10000113-1745435700-1745439300@yorktownlacrosse.com
SUMMARY:BLAX Varsity Game AWAY vs. Wakefield (District Game)
DESCRIPTION:DEPART AT 5:45PM \nROSTER | Video
URL:https://yorktownlacrosse.com/event/varsity-game-away-vs-wakefield/
LOCATION:Wakefield High School\, 1325 S Dinwiddie Street\, Arlington\, 22206\, United States
CATEGORIES:Boys Varsity Schedule,Game
END:VEVENT
BEGIN:VEVENT
DTSTART;TZID=America/New_York:20250429T174500
DTEND;TZID=America/New_York:20250429T184500
DTSTAMP:20260421T130012
CREATED:20250120T023046Z
LAST-MODIFIED:20250227T221542Z
UID:10000154-1745948700-1745952300@yorktownlacrosse.com
SUMMARY:BLAX JV Game HOME vs. Marshall
DESCRIPTION:ROSTER | Video
URL:https://yorktownlacrosse.com/event/blax-jv-game-home-vs-marshall/
LOCATION:Greenbrier Stadium/YHS Field\, 5200 Yorktown Blvd.\, Arlington\, VA\, 22207
CATEGORIES:Boys JV Schedule,Game
END:VEVENT
BEGIN:VEVENT
DTSTART;TZID=America/New_York:20250429T191500
DTEND;TZID=America/New_York:20250429T201500
DTSTAMP:20260421T130012
CREATED:20250120T003514Z
LAST-MODIFIED:20250227T220953Z
UID:10000114-1745954100-1745957700@yorktownlacrosse.com
SUMMARY:BLAX Varsity Game HOME vs. Marshall
DESCRIPTION:ROSTER | Video
URL:https://yorktownlacrosse.com/event/varsity-game-home-vs-marshall/
LOCATION:Greenbrier Stadium/YHS Field\, 5200 Yorktown Blvd.\, Arlington\, VA\, 22207
CATEGORIES:Boys Varsity Schedule,Game
END:VEVENT
BEGIN:VEVENT
DTSTART;TZID=America/New_York:20250501T174500
DTEND;TZID=America/New_York:20250501T184500
DTSTAMP:20260421T130012
CREATED:20250120T023138Z
LAST-MODIFIED:20250320T153052Z
UID:10000155-1746121500-1746125100@yorktownlacrosse.com
SUMMARY:BLAX JV Game AWAY vs. McLean (District Game)
DESCRIPTION:DEPART AT 4:15PM \nROSTER | Video
URL:https://yorktownlacrosse.com/event/blax-jv-game-away-vs-mclean/
LOCATION:McLean High School\, 1633 Davidson Road\, McLean\, 22101\, United States
CATEGORIES:Boys JV Schedule,Game
END:VEVENT
BEGIN:VEVENT
DTSTART;TZID=America/New_York:20250501T191500
DTEND;TZID=America/New_York:20250501T201500
DTSTAMP:20260421T130012
CREATED:20250120T003654Z
LAST-MODIFIED:20250320T153104Z
UID:10000115-1746126900-1746130500@yorktownlacrosse.com
SUMMARY:BLAX Varsity Game AWAY vs. McLean (District Game)
DESCRIPTION:DEPART AT 5:45PM \nROSTER | Video
URL:https://yorktownlacrosse.com/event/varsity-game-away-vs-mclean/
LOCATION:McLean High School\, 1633 Davidson Road\, McLean\, 22101\, United States
CATEGORIES:Boys Varsity Schedule,Game
END:VEVENT
BEGIN:VEVENT
DTSTART;VALUE=DATE:20250503
DTEND;VALUE=DATE:20250504
DTSTAMP:20260421T130012
CREATED:20250120T003817Z
LAST-MODIFIED:20250227T220853Z
UID:10000116-1746230400-1746316799@yorktownlacrosse.com
SUMMARY:BLAX Varsity Game AWAY vs. Deep Run
DESCRIPTION:DEPART AT 10:15AM \n@ South County Tournament \nROSTER | Video
URL:https://yorktownlacrosse.com/event/varsity-game-away-vs-deep-run/
CATEGORIES:Boys Varsity Schedule,Game
END:VEVENT
BEGIN:VEVENT
DTSTART;TZID=America/New_York:20250505T174500
DTEND;TZID=America/New_York:20250505T184500
DTSTAMP:20260421T130012
CREATED:20250120T023232Z
LAST-MODIFIED:20250227T221542Z
UID:10000156-1746467100-1746470700@yorktownlacrosse.com
SUMMARY:BLAX JV Game HOME vs. Meridian
DESCRIPTION:ROSTER | Video
URL:https://yorktownlacrosse.com/event/blax-jv-game-home-vs-meridian/
LOCATION:Greenbrier Stadium/YHS Field\, 5200 Yorktown Blvd.\, Arlington\, VA\, 22207
CATEGORIES:Boys JV Schedule,Game
END:VEVENT
BEGIN:VEVENT
DTSTART;TZID=America/New_York:20250505T191500
DTEND;TZID=America/New_York:20250505T201500
DTSTAMP:20260421T130012
CREATED:20250120T003931Z
LAST-MODIFIED:20250227T220835Z
UID:10000117-1746472500-1746476100@yorktownlacrosse.com
SUMMARY:BLAX Varsity Game HOME vs. Meridian
DESCRIPTION:ROSTER | Video
URL:https://yorktownlacrosse.com/event/varsity-game-home-vs-meridian/
LOCATION:Greenbrier Stadium/YHS Field\, 5200 Yorktown Blvd.\, Arlington\, VA\, 22207
CATEGORIES:Boys Varsity Schedule,Game
END:VEVENT
BEGIN:VEVENT
DTSTART;TZID=America/New_York:20250506T174500
DTEND;TZID=America/New_York:20250506T184500
DTSTAMP:20260421T130012
CREATED:20250120T023342Z
LAST-MODIFIED:20250320T153234Z
UID:10000157-1746553500-1746557100@yorktownlacrosse.com
SUMMARY:BLAX JV Game HOME vs. Washington-Liberty (District Game)
DESCRIPTION:ROSTER | Video
URL:https://yorktownlacrosse.com/event/blax-jv-game-away-vs-washington-liberty/
LOCATION:Greenbrier Stadium/YHS Field\, 5200 Yorktown Blvd.\, Arlington\, VA\, 22207
CATEGORIES:Boys JV Schedule,Game
END:VEVENT
BEGIN:VEVENT
DTSTART;TZID=America/New_York:20250506T191500
DTEND;TZID=America/New_York:20250506T201500
DTSTAMP:20260421T130012
CREATED:20250120T004031Z
LAST-MODIFIED:20250320T153248Z
UID:10000118-1746558900-1746562500@yorktownlacrosse.com
SUMMARY:BLAX Varsity Game HOME vs. Washington-Liberty (District Game)
DESCRIPTION:ROSTER | Video
URL:https://yorktownlacrosse.com/event/varsity-game-home-vs-washington-liberty/
LOCATION:Greenbrier Stadium/YHS Field\, 5200 Yorktown Blvd.\, Arlington\, VA\, 22207
CATEGORIES:Boys Varsity Schedule,Game
END:VEVENT
BEGIN:VEVENT
DTSTART;TZID=America/New_York:20250508T174500
DTEND;TZID=America/New_York:20250508T184500
DTSTAMP:20260421T130012
CREATED:20250120T023619Z
LAST-MODIFIED:20250320T152903Z
UID:10000158-1746726300-1746729900@yorktownlacrosse.com
SUMMARY:BLAX JV Game AWAY vs. Herndon (District Game)
DESCRIPTION:DEPART AT 4:00PM \nROSTER | Video
URL:https://yorktownlacrosse.com/event/blax-jv-game-away-vs-herndon/
LOCATION:Herndon High School\, 700 Bennett Street\, Herndon\, VA\, 20170\, United States
CATEGORIES:Boys JV Schedule,Game
END:VEVENT
BEGIN:VEVENT
DTSTART;TZID=America/New_York:20250508T191500
DTEND;TZID=America/New_York:20250508T201500
DTSTAMP:20260421T130012
CREATED:20250120T004211Z
LAST-MODIFIED:20250320T152914Z
UID:10000119-1746731700-1746735300@yorktownlacrosse.com
SUMMARY:BLAX Varsity Game AWAY vs. Herndon (District Game)
DESCRIPTION:DEPART AT 5:30PM \nROSTER | Video
URL:https://yorktownlacrosse.com/event/varsity-game-away-vs-herndon/
LOCATION:Herndon High School\, 700 Bennett Street\, Herndon\, VA\, 20170\, United States
CATEGORIES:Boys Varsity Schedule,Game
END:VEVENT
END:VCALENDAR