BEGIN:VCALENDAR
VERSION:2.0
PRODID:-//Yorktown Lacrosse - ECPv6.15.20//NONSGML v1.0//EN
CALSCALE:GREGORIAN
METHOD:PUBLISH
X-ORIGINAL-URL:https://yorktownlacrosse.com
X-WR-CALDESC:Events for Yorktown Lacrosse
REFRESH-INTERVAL;VALUE=DURATION:PT1H
X-Robots-Tag:noindex
X-PUBLISHED-TTL:PT1H
BEGIN:VTIMEZONE
TZID:America/New_York
BEGIN:DAYLIGHT
TZOFFSETFROM:-0500
TZOFFSETTO:-0400
TZNAME:EDT
DTSTART:20250309T070000
END:DAYLIGHT
BEGIN:STANDARD
TZOFFSETFROM:-0400
TZOFFSETTO:-0500
TZNAME:EST
DTSTART:20251102T060000
END:STANDARD
BEGIN:DAYLIGHT
TZOFFSETFROM:-0500
TZOFFSETTO:-0400
TZNAME:EDT
DTSTART:20260308T070000
END:DAYLIGHT
BEGIN:STANDARD
TZOFFSETFROM:-0400
TZOFFSETTO:-0500
TZNAME:EST
DTSTART:20261101T060000
END:STANDARD
BEGIN:DAYLIGHT
TZOFFSETFROM:-0500
TZOFFSETTO:-0400
TZNAME:EDT
DTSTART:20270314T070000
END:DAYLIGHT
BEGIN:STANDARD
TZOFFSETFROM:-0400
TZOFFSETTO:-0500
TZNAME:EST
DTSTART:20271107T060000
END:STANDARD
END:VTIMEZONE
BEGIN:VEVENT
DTSTART;TZID=America/New_York:20260311T173000
DTEND;TZID=America/New_York:20260311T193000
DTSTAMP:20260419T181940
CREATED:20260128T182158Z
LAST-MODIFIED:20260406T010510Z
UID:10000221-1773250200-1773257400@yorktownlacrosse.com
SUMMARY:Varsity Scrimmage AWAY vs. Hayfield and West Potomac
DESCRIPTION:Tri-Scrimmage with the first half against Hayfield and the second half against West Potomac
URL:https://yorktownlacrosse.com/event/blax-varsity-scrimmage-home-vs-hayfield-and-west-potomac/
LOCATION:Hayfield High School\, 7630 Telegraph Rd\, Alexandria\, VA\, 22315
CATEGORIES:Boys Schedule,Boys Varsity Schedule,Calendar,Scrimmage
END:VEVENT
END:VCALENDAR