BEGIN:VCALENDAR
VERSION:2.0
PRODID:-//Yorktown Lacrosse - ECPv6.15.20//NONSGML v1.0//EN
CALSCALE:GREGORIAN
METHOD:PUBLISH
X-ORIGINAL-URL:https://yorktownlacrosse.com
X-WR-CALDESC:Events for Yorktown Lacrosse
REFRESH-INTERVAL;VALUE=DURATION:PT1H
X-Robots-Tag:noindex
X-PUBLISHED-TTL:PT1H
BEGIN:VTIMEZONE
TZID:America/New_York
BEGIN:DAYLIGHT
TZOFFSETFROM:-0500
TZOFFSETTO:-0400
TZNAME:EDT
DTSTART:20250309T070000
END:DAYLIGHT
BEGIN:STANDARD
TZOFFSETFROM:-0400
TZOFFSETTO:-0500
TZNAME:EST
DTSTART:20251102T060000
END:STANDARD
BEGIN:DAYLIGHT
TZOFFSETFROM:-0500
TZOFFSETTO:-0400
TZNAME:EDT
DTSTART:20260308T070000
END:DAYLIGHT
BEGIN:STANDARD
TZOFFSETFROM:-0400
TZOFFSETTO:-0500
TZNAME:EST
DTSTART:20261101T060000
END:STANDARD
BEGIN:DAYLIGHT
TZOFFSETFROM:-0500
TZOFFSETTO:-0400
TZNAME:EDT
DTSTART:20270314T070000
END:DAYLIGHT
BEGIN:STANDARD
TZOFFSETFROM:-0400
TZOFFSETTO:-0500
TZNAME:EST
DTSTART:20271107T060000
END:STANDARD
END:VTIMEZONE
BEGIN:VEVENT
DTSTART;TZID=America/New_York:20260303T180000
DTEND;TZID=America/New_York:20260303T193000
DTSTAMP:20260421T104234
CREATED:20260301T223218Z
LAST-MODIFIED:20260406T010300Z
UID:10000264-1772560800-1772566200@yorktownlacrosse.com
SUMMARY:Kickoff Dinner
DESCRIPTION:
URL:https://yorktownlacrosse.com/event/kickoff-dinner/
LOCATION:Yorktown HS Cafeteria
CATEGORIES:Boys JV Schedule,Boys Schedule,Boys Varsity Schedule,Calendar,Team Dinner
END:VEVENT
BEGIN:VEVENT
DTSTART;TZID=America/New_York:20260308T173000
DTEND;TZID=America/New_York:20260308T193000
DTSTAMP:20260421T104234
CREATED:20260307T205110Z
LAST-MODIFIED:20260406T010347Z
UID:10000266-1772991000-1772998200@yorktownlacrosse.com
SUMMARY:JV Team Dinner
DESCRIPTION:For Players and Parents \nHosted by the Palmers
URL:https://yorktownlacrosse.com/event/jv-team-dinner/
CATEGORIES:Boys JV Schedule,Boys Schedule,Calendar,Team Dinner
END:VEVENT
BEGIN:VEVENT
DTSTART;TZID=America/New_York:20260315T180000
DTEND;TZID=America/New_York:20260315T193000
DTSTAMP:20260421T104234
CREATED:20260307T205221Z
LAST-MODIFIED:20260406T010509Z
UID:10000267-1773597600-1773603000@yorktownlacrosse.com
SUMMARY:Varsity Team Dinner
DESCRIPTION:For Players and Parents \nHosted by the Leftons
URL:https://yorktownlacrosse.com/event/varsity-team-dinner/
CATEGORIES:Boys Schedule,Boys Varsity Schedule,Calendar,Team Dinner
END:VEVENT
END:VCALENDAR