BEGIN:VCALENDAR
VERSION:2.0
PRODID:-//Yorktown Lacrosse - ECPv6.15.20//NONSGML v1.0//EN
CALSCALE:GREGORIAN
METHOD:PUBLISH
X-ORIGINAL-URL:https://yorktownlacrosse.com
X-WR-CALDESC:Events for Yorktown Lacrosse
REFRESH-INTERVAL;VALUE=DURATION:PT1H
X-Robots-Tag:noindex
X-PUBLISHED-TTL:PT1H
BEGIN:VTIMEZONE
TZID:America/New_York
BEGIN:DAYLIGHT
TZOFFSETFROM:-0500
TZOFFSETTO:-0400
TZNAME:EDT
DTSTART:20250309T070000
END:DAYLIGHT
BEGIN:STANDARD
TZOFFSETFROM:-0400
TZOFFSETTO:-0500
TZNAME:EST
DTSTART:20251102T060000
END:STANDARD
BEGIN:DAYLIGHT
TZOFFSETFROM:-0500
TZOFFSETTO:-0400
TZNAME:EDT
DTSTART:20260308T070000
END:DAYLIGHT
BEGIN:STANDARD
TZOFFSETFROM:-0400
TZOFFSETTO:-0500
TZNAME:EST
DTSTART:20261101T060000
END:STANDARD
BEGIN:DAYLIGHT
TZOFFSETFROM:-0500
TZOFFSETTO:-0400
TZNAME:EDT
DTSTART:20270314T070000
END:DAYLIGHT
BEGIN:STANDARD
TZOFFSETFROM:-0400
TZOFFSETTO:-0500
TZNAME:EST
DTSTART:20271107T060000
END:STANDARD
END:VTIMEZONE
BEGIN:VEVENT
DTSTART;TZID=America/New_York:20260311T151500
DTEND;TZID=America/New_York:20260311T153000
DTSTAMP:20260419T143646
CREATED:20260307T211704Z
LAST-MODIFIED:20260406T010409Z
UID:10000271-1773242100-1773243000@yorktownlacrosse.com
SUMMARY:Varsity Team Pictures 3:15PM
DESCRIPTION:Spring sports team and individual photographs will be taken on March 10-11. A schedule will be distributed in the coming days. \nSpring2026SportsPicturesOrderForm \nAlso\, if you are potentially interested in ordering individual photographs of your student-athlete\, please remind them to have their individual picture taken in addition to the team picture. All students are afforded the opportunity to have an individual picture taken\, but many decline so please encourage your student to do so.
URL:https://yorktownlacrosse.com/event/varsity-team-pictures-315pm/
LOCATION:Yorktown High School
CATEGORIES:Boys JV Schedule,Boys Schedule,Boys Varsity Schedule,Calendar,Team Event
END:VEVENT
BEGIN:VEVENT
DTSTART;TZID=America/New_York:20260311T162000
DTEND;TZID=America/New_York:20260311T163000
DTSTAMP:20260419T143646
CREATED:20260307T211600Z
LAST-MODIFIED:20260406T010422Z
UID:10000270-1773246000-1773246600@yorktownlacrosse.com
SUMMARY:JV Team Pictures 4:40PM
DESCRIPTION:Spring sports team and individual photographs will be taken on March 10-11. A schedule will be distributed in the coming days. \nSpring2026SportsPicturesOrderForm \nAlso\, if you are potentially interested in ordering individual photographs of your student-athlete\, please remind them to have their individual picture taken in addition to the team picture. All students are afforded the opportunity to have an individual picture taken\, but many decline so please encourage your student to do so.
URL:https://yorktownlacrosse.com/event/jv-team-pictures-420pm/
LOCATION:Yorktown High School
CATEGORIES:Boys JV Schedule,Boys Schedule,Boys Varsity Schedule,Calendar,Team Event
END:VEVENT
END:VCALENDAR