BEGIN:VCALENDAR
VERSION:2.0
PRODID:-//Yorktown Lacrosse - ECPv6.15.20//NONSGML v1.0//EN
CALSCALE:GREGORIAN
METHOD:PUBLISH
X-ORIGINAL-URL:https://yorktownlacrosse.com
X-WR-CALDESC:Events for Yorktown Lacrosse
REFRESH-INTERVAL;VALUE=DURATION:PT1H
X-Robots-Tag:noindex
X-PUBLISHED-TTL:PT1H
BEGIN:VTIMEZONE
TZID:America/New_York
BEGIN:DAYLIGHT
TZOFFSETFROM:-0500
TZOFFSETTO:-0400
TZNAME:EDT
DTSTART:20230312T070000
END:DAYLIGHT
BEGIN:STANDARD
TZOFFSETFROM:-0400
TZOFFSETTO:-0500
TZNAME:EST
DTSTART:20231105T060000
END:STANDARD
BEGIN:DAYLIGHT
TZOFFSETFROM:-0500
TZOFFSETTO:-0400
TZNAME:EDT
DTSTART:20240310T070000
END:DAYLIGHT
BEGIN:STANDARD
TZOFFSETFROM:-0400
TZOFFSETTO:-0500
TZNAME:EST
DTSTART:20241103T060000
END:STANDARD
BEGIN:DAYLIGHT
TZOFFSETFROM:-0500
TZOFFSETTO:-0400
TZNAME:EDT
DTSTART:20250309T070000
END:DAYLIGHT
BEGIN:STANDARD
TZOFFSETFROM:-0400
TZOFFSETTO:-0500
TZNAME:EST
DTSTART:20251102T060000
END:STANDARD
END:VTIMEZONE
BEGIN:VEVENT
DTSTART;TZID=America/New_York:20240314T153000
DTEND;TZID=America/New_York:20240314T170000
DTSTAMP:20260421T090744
CREATED:20240307T203929Z
LAST-MODIFIED:20240307T203929Z
UID:10000075-1710430200-1710435600@yorktownlacrosse.com
SUMMARY:Varsity & JV Practice
DESCRIPTION:LOCATION CHANGE – WMS
URL:https://yorktownlacrosse.com/event/varsity-jv-practice-13/
LOCATION:Williamsburg Middle School\, 3600 N Harrison St.\, Arlington\, 22207\, United States
CATEGORIES:Boys JV Schedule,Boys Varsity Schedule,Practice
END:VEVENT
BEGIN:VEVENT
DTSTART;TZID=America/New_York:20240315T174500
DTEND;TZID=America/New_York:20240315T184500
DTSTAMP:20260421T090744
CREATED:20240209T195603Z
LAST-MODIFIED:20240318T181433Z
UID:10000010-1710524700-1710528300@yorktownlacrosse.com
SUMMARY:JV Game HOME vs. Robinson Rams (W - 10 - 2)
DESCRIPTION:Win 10 – 22024 Yorktown Patriots Lacrosse Program | \nRobinson Rams ROSTER |
URL:https://yorktownlacrosse.com/event/home-robinson-rams/
LOCATION:Greenbrier Stadium/YHS Field\, 5200 Yorktown Blvd.\, Arlington\, VA\, 22207
CATEGORIES:Boys JV Schedule,Game
END:VEVENT
BEGIN:VEVENT
DTSTART;TZID=America/New_York:20240315T191500
DTEND;TZID=America/New_York:20240315T201500
DTSTAMP:20260421T090744
CREATED:20240209T201701Z
LAST-MODIFIED:20240318T181415Z
UID:10000036-1710530100-1710533700@yorktownlacrosse.com
SUMMARY:Varsity Game HOME vs. Robinson Rams (L 5 - 8)
DESCRIPTION:L 5 – 8 |\n2024 Yorktown Patriots Lacrosse Program | \nRobinson Rams ROSTER |
URL:https://yorktownlacrosse.com/event/home-robinson-rams-2/
LOCATION:Greenbrier Stadium/YHS Field\, 5200 Yorktown Blvd.\, Arlington\, VA\, 22207
CATEGORIES:Boys Varsity Schedule,Game
END:VEVENT
BEGIN:VEVENT
DTSTART;TZID=America/New_York:20240316T073000
DTEND;TZID=America/New_York:20240316T150000
DTSTAMP:20260421T090744
CREATED:20240225T194956Z
LAST-MODIFIED:20240315T125850Z
UID:10000068-1710574200-1710601200@yorktownlacrosse.com
SUMMARY:Varsity/JV Mulch Delivery Day
DESCRIPTION:Mulch Day lasts as long as it takes for all orders to be delivered.
URL:https://yorktownlacrosse.com/event/varsity-jv-mulch-delivery-day/
LOCATION:YHS Pool Parking Lot\, 5200 Yorktown Blvd.\, Arlington\, VA\, 22207
CATEGORIES:Boys JV Schedule,Boys Varsity Schedule,Team Event
END:VEVENT
BEGIN:VEVENT
DTSTART;TZID=America/New_York:20240318T180000
DTEND;TZID=America/New_York:20240318T190000
DTSTAMP:20260421T090744
CREATED:20240209T200248Z
LAST-MODIFIED:20240318T234958Z
UID:10000011-1710784800-1710788400@yorktownlacrosse.com
SUMMARY:JV Game AWAY vs. Chantilly Cougars (W 8 - 3)
DESCRIPTION:Win 8 – 3\nVideo:  NFHS Network |\nROSTER |
URL:https://yorktownlacrosse.com/event/away-chantilly-cougars/
LOCATION:Chantilly High School\, 4201 Stringfellow Rd.\, Chantilly\, VA\, 20151\, United States
CATEGORIES:Boys JV Schedule,Game
END:VEVENT
BEGIN:VEVENT
DTSTART;TZID=America/New_York:20240318T183000
DTEND;TZID=America/New_York:20240318T201500
DTSTAMP:20260421T090744
CREATED:20240307T204110Z
LAST-MODIFIED:20240307T204110Z
UID:10000076-1710786600-1710792900@yorktownlacrosse.com
SUMMARY:Varsity Practice
DESCRIPTION:
URL:https://yorktownlacrosse.com/event/varsity-practice-2/
LOCATION:Greenbrier Stadium/YHS Field\, 5200 Yorktown Blvd.\, Arlington\, VA\, 22207
CATEGORIES:Boys Varsity Schedule,Practice
END:VEVENT
BEGIN:VEVENT
DTSTART;TZID=America/New_York:20240319T153000
DTEND;TZID=America/New_York:20240319T171500
DTSTAMP:20260421T090744
CREATED:20240307T204159Z
LAST-MODIFIED:20240307T204159Z
UID:10000077-1710862200-1710868500@yorktownlacrosse.com
SUMMARY:Varsity & JV Practice
DESCRIPTION:
URL:https://yorktownlacrosse.com/event/varsity-jv-practice-14/
LOCATION:Greenbrier Stadium/YHS Field\, 5200 Yorktown Blvd.\, Arlington\, VA\, 22207
CATEGORIES:Boys JV Schedule,Boys Varsity Schedule,Practice
END:VEVENT
BEGIN:VEVENT
DTSTART;TZID=America/New_York:20240320T173000
DTEND;TZID=America/New_York:20240320T183000
DTSTAMP:20260421T090744
CREATED:20240209T201703Z
LAST-MODIFIED:20240320T235739Z
UID:10000037-1710955800-1710959400@yorktownlacrosse.com
SUMMARY:Varsity Game AWAY vs. Madison Warhawks (L 6 - 7 OT)
DESCRIPTION:L 6-7 OT\nGame at Robinson HS\nVideo: https://www.nfhsnetwork.com/events/robinson-secondary-school-fairfax-va/gam9e7c5efd0c  |\nROSTER |  \n \n  \n  \n 
URL:https://yorktownlacrosse.com/event/away-madison-warhawks/
LOCATION:Robinson High School\, 5035 Sideburn Rd.\, Fairfax\, VA\, 22032
CATEGORIES:Boys Varsity Schedule,Game
END:VEVENT
BEGIN:VEVENT
DTSTART;TZID=America/New_York:20240321T153000
DTEND;TZID=America/New_York:20240321T170000
DTSTAMP:20260421T090744
CREATED:20240307T204307Z
LAST-MODIFIED:20240307T204307Z
UID:10000078-1711035000-1711040400@yorktownlacrosse.com
SUMMARY:Varsity & JV Practice
DESCRIPTION:LOCATION CHANGE – WMS
URL:https://yorktownlacrosse.com/event/varsity-jv-practice-15/
LOCATION:Williamsburg Middle School\, 3600 N Harrison St.\, Arlington\, 22207\, United States
CATEGORIES:Boys JV Schedule,Boys Varsity Schedule,Practice
END:VEVENT
BEGIN:VEVENT
DTSTART;TZID=America/New_York:20240322T174500
DTEND;TZID=America/New_York:20240322T184500
DTSTAMP:20260421T090744
CREATED:20240209T200241Z
LAST-MODIFIED:20240430T010004Z
UID:10000012-1711129500-1711133100@yorktownlacrosse.com
SUMMARY:JV Game AWAY vs. Oakton Cougars (W 13 - 11)
DESCRIPTION:Win 13 – 11\nvs. Oakton Cougars |\nGame Video:  https://www.nfhsnetwork.com/events/oakton-high-school-vienna-va/gamb864205611 | \nROSTER
URL:https://yorktownlacrosse.com/event/away-oakton-cougars/
LOCATION:Oakton High School\, 2900 Sutton Rd.\, Vienna\, VA\, 22181\, United States
CATEGORIES:Boys JV Schedule,Game
END:VEVENT
BEGIN:VEVENT
DTSTART;TZID=America/New_York:20240322T191500
DTEND;TZID=America/New_York:20240322T201500
DTSTAMP:20260421T090744
CREATED:20240209T201658Z
LAST-MODIFIED:20240430T005955Z
UID:10000038-1711134900-1711138500@yorktownlacrosse.com
SUMMARY:Varsity Game AWAY vs. Oakton Cougars (W 9 - 5)
DESCRIPTION:Win 9 – 5\nvs. Oakton Cougars |\nGame Video:  https://www.nfhsnetwork.com/events/oakton-high-school-vienna-va/gam2e81cc1022 |\nROSTER |
URL:https://yorktownlacrosse.com/event/away-oakton-cougars-2/
LOCATION:Oakton High School\, 2900 Sutton Rd.\, Vienna\, VA\, 22181\, United States
CATEGORIES:Boys Varsity Schedule,Game
END:VEVENT
BEGIN:VEVENT
DTSTART;VALUE=DATE:20240325
DTEND;VALUE=DATE:20240330
DTSTAMP:20260421T090744
CREATED:20240307T204422Z
LAST-MODIFIED:20240307T204422Z
UID:10000079-1711324800-1711756799@yorktownlacrosse.com
SUMMARY:Spring Break Turf Time TBA (Optional if in town)
DESCRIPTION:
URL:https://yorktownlacrosse.com/event/spring-break-turf-time-tba-optional-if-in-town/
LOCATION:Greenbrier Stadium/YHS Field\, 5200 Yorktown Blvd.\, Arlington\, VA\, 22207
CATEGORIES:Boys JV Schedule,Boys Varsity Schedule,Practice
END:VEVENT
BEGIN:VEVENT
DTSTART;TZID=America/New_York:20240401T153000
DTEND;TZID=America/New_York:20240401T171500
DTSTAMP:20260421T090744
CREATED:20240307T204509Z
LAST-MODIFIED:20240307T204509Z
UID:10000080-1711985400-1711991700@yorktownlacrosse.com
SUMMARY:Varsity & JV Practice
DESCRIPTION:
URL:https://yorktownlacrosse.com/event/varsity-jv-practice-16/
LOCATION:Greenbrier Stadium/YHS Field\, 5200 Yorktown Blvd.\, Arlington\, VA\, 22207
CATEGORIES:Boys JV Schedule,Boys Varsity Schedule,Practice
END:VEVENT
BEGIN:VEVENT
DTSTART;TZID=America/New_York:20240402T171500
DTEND;TZID=America/New_York:20240402T190000
DTSTAMP:20260421T090744
CREATED:20240403T190732Z
LAST-MODIFIED:20240403T190732Z
UID:10000083-1712078100-1712084400@yorktownlacrosse.com
SUMMARY:JV Practice
DESCRIPTION:
URL:https://yorktownlacrosse.com/event/jv-practice/
LOCATION:Greenbrier Stadium/YHS Field\, 5200 Yorktown Blvd.\, Arlington\, VA\, 22207
CATEGORIES:Boys JV Schedule,Practice
END:VEVENT
BEGIN:VEVENT
DTSTART;TZID=America/New_York:20240402T183000
DTEND;TZID=America/New_York:20240402T200000
DTSTAMP:20260421T090744
CREATED:20240403T190851Z
LAST-MODIFIED:20240403T190851Z
UID:10000084-1712082600-1712088000@yorktownlacrosse.com
SUMMARY:Varsity Practice
DESCRIPTION:
URL:https://yorktownlacrosse.com/event/varsity-practice-3/
LOCATION:Greenbrier Stadium/YHS Field\, 5200 Yorktown Blvd.\, Arlington\, VA\, 22207
CATEGORIES:Boys Varsity Schedule,Practice
END:VEVENT
BEGIN:VEVENT
DTSTART;TZID=America/New_York:20240403T153000
DTEND;TZID=America/New_York:20240403T171500
DTSTAMP:20260421T090744
CREATED:20240307T204547Z
LAST-MODIFIED:20240403T190538Z
UID:10000081-1712158200-1712164500@yorktownlacrosse.com
SUMMARY:Varsity & JV Practice
DESCRIPTION:
URL:https://yorktownlacrosse.com/event/varsity-jv-practice-17/
LOCATION:Greenbrier Stadium/YHS Field\, 5200 Yorktown Blvd.\, Arlington\, VA\, 22207
CATEGORIES:Boys JV Schedule,Boys Varsity Schedule,Practice
END:VEVENT
BEGIN:VEVENT
DTSTART;TZID=America/New_York:20240404T180000
DTEND;TZID=America/New_York:20240404T190000
DTSTAMP:20260421T090744
CREATED:20240209T200235Z
LAST-MODIFIED:20240430T005926Z
UID:10000014-1712253600-1712257200@yorktownlacrosse.com
SUMMARY:JV Game AWAY vs. Patriot Pioneers (W 12 - 1)
DESCRIPTION:Win 12 – 1 vs. Patriot Pioneers | \nVideo:  https://www.nfhsnetwork.com/events/patriot-high-school-nokesville-va/gam5a4b26aca5 |\nROSTER
URL:https://yorktownlacrosse.com/event/away-patriot-pioneers/
LOCATION:Patriot High School\, 10504 Kettle Run Rd.\, Nokesville\, VA\, 20181\, United States
CATEGORIES:Boys JV Schedule,Game
END:VEVENT
BEGIN:VEVENT
DTSTART;TZID=America/New_York:20240404T193000
DTEND;TZID=America/New_York:20240404T203000
DTSTAMP:20260421T090744
CREATED:20240209T201652Z
LAST-MODIFIED:20240430T005918Z
UID:10000040-1712259000-1712262600@yorktownlacrosse.com
SUMMARY:Varsity Game AWAY vs. Patriot Pioneers (W 11 - 4)
DESCRIPTION:Win 11 – 4 vs. Patriot Pioneers | \nVideo:  https://www.nfhsnetwork.com/events/patriot-high-school-nokesville-va/gam30b84dbc42 |\nROSTER
URL:https://yorktownlacrosse.com/event/away-patriot-pioneers-2/
LOCATION:Patriot High School\, 10504 Kettle Run Rd.\, Nokesville\, VA\, 20181\, United States
CATEGORIES:Boys Varsity Schedule,Game
END:VEVENT
BEGIN:VEVENT
DTSTART;TZID=America/New_York:20240405T174500
DTEND;TZID=America/New_York:20240405T184500
DTSTAMP:20260421T090744
CREATED:20240209T200216Z
LAST-MODIFIED:20240430T005858Z
UID:10000015-1712339100-1712342700@yorktownlacrosse.com
SUMMARY:JV Game AWAY vs. Marshall Statesmen (W 9 - 1)
DESCRIPTION:Win 9 – 1 vs. Marshall Statesmen | \nVideo:  https://www.nfhsnetwork.com/events/george-c-marshall-high-school-falls-church-va/gambb2356a3d5 |\nROSTER
URL:https://yorktownlacrosse.com/event/away-marshall-statesmen/
LOCATION:Marshall High School\, 7731 Leesburg Pike\, Falls Church\, VA\, 22043\, United States
CATEGORIES:Boys JV Schedule,Game
END:VEVENT
BEGIN:VEVENT
DTSTART;TZID=America/New_York:20240405T191500
DTEND;TZID=America/New_York:20240405T201500
DTSTAMP:20260421T090744
CREATED:20240209T201646Z
LAST-MODIFIED:20240430T005845Z
UID:10000041-1712344500-1712348100@yorktownlacrosse.com
SUMMARY:Varsity Game AWAY vs. Marshall Statesmen (W 15 - 1)
DESCRIPTION:Win 15 – 1 vs. Marshall Statesmen | \nVideo:  https://www.nfhsnetwork.com/events/george-c-marshall-high-school-falls-church-va/gamb6f5430d38 | \nROSTER
URL:https://yorktownlacrosse.com/event/away-marshall-statesmen-2/
LOCATION:Marshall High School\, 7731 Leesburg Pike\, Falls Church\, VA\, 22043\, United States
CATEGORIES:Boys Varsity Schedule,Game
END:VEVENT
BEGIN:VEVENT
DTSTART;TZID=America/New_York:20240408T174500
DTEND;TZID=America/New_York:20240408T184500
DTSTAMP:20260421T090744
CREATED:20240209T200209Z
LAST-MODIFIED:20240430T005826Z
UID:10000016-1712598300-1712601900@yorktownlacrosse.com
SUMMARY:JV Game AWAY vs. Langley Saxons (W 13 - 4)
DESCRIPTION:Win 13 – 4 |\nvs. Langley Saxons |\nVideo: https://www.nfhsnetwork.com/events/langley-high-school-mclean-va/gamd728c83430\nROSTER
URL:https://yorktownlacrosse.com/event/away-langley-saxons/
LOCATION:Langley High School\, 6520 Georgetown Pike\, McLean\, VA\, 22101\, United States
CATEGORIES:Boys JV Schedule,Game
END:VEVENT
BEGIN:VEVENT
DTSTART;TZID=America/New_York:20240408T191500
DTEND;TZID=America/New_York:20240408T201500
DTSTAMP:20260421T090744
CREATED:20240209T201640Z
LAST-MODIFIED:20240430T005808Z
UID:10000042-1712603700-1712607300@yorktownlacrosse.com
SUMMARY:Varsity Game AWAY vs. Langley Saxons (Double OT L 8 - 9)
DESCRIPTION:Double Overtime Loss 8 – 9 |\nvs. Langley Saxons |\nVideo:  https://www.nfhsnetwork.com/events/langley-high-school-mclean-va/gam353454d823\nROSTER
URL:https://yorktownlacrosse.com/event/away-langley-saxons-2/
LOCATION:Langley High School\, 6520 Georgetown Pike\, McLean\, VA\, 22101\, United States
CATEGORIES:Boys Varsity Schedule,Game
END:VEVENT
BEGIN:VEVENT
DTSTART;TZID=America/New_York:20240409T183000
DTEND;TZID=America/New_York:20240409T200000
DTSTAMP:20260421T090744
CREATED:20240413T195020Z
LAST-MODIFIED:20240413T195020Z
UID:10000085-1712687400-1712692800@yorktownlacrosse.com
SUMMARY:Varsity & JV Practice
DESCRIPTION:
URL:https://yorktownlacrosse.com/event/varsity-jv-practice-18/
LOCATION:Greenbrier Stadium/YHS Field\, 5200 Yorktown Blvd.\, Arlington\, VA\, 22207
CATEGORIES:Boys JV Schedule,Boys Varsity Schedule,Practice
END:VEVENT
BEGIN:VEVENT
DTSTART;TZID=America/New_York:20240411T153000
DTEND;TZID=America/New_York:20240411T171500
DTSTAMP:20260421T090744
CREATED:20240413T195121Z
LAST-MODIFIED:20240413T195121Z
UID:10000086-1712849400-1712855700@yorktownlacrosse.com
SUMMARY:Varsity & JV Practice
DESCRIPTION:
URL:https://yorktownlacrosse.com/event/varsity-jv-practice-19/
LOCATION:Greenbrier Stadium/YHS Field\, 5200 Yorktown Blvd.\, Arlington\, VA\, 22207
CATEGORIES:Boys JV Schedule,Boys Varsity Schedule,Practice
END:VEVENT
BEGIN:VEVENT
DTSTART;TZID=America/New_York:20240412T153000
DTEND;TZID=America/New_York:20240412T170000
DTSTAMP:20260421T090744
CREATED:20240413T195217Z
LAST-MODIFIED:20240413T195217Z
UID:10000087-1712935800-1712941200@yorktownlacrosse.com
SUMMARY:Varsity & JV Practice @ WMS
DESCRIPTION:
URL:https://yorktownlacrosse.com/event/varsity-jv-practice-wms/
LOCATION:Williamsburg Middle School\, 3600 N Harrison St.\, Arlington\, 22207\, United States
CATEGORIES:Boys JV Schedule,Boys Varsity Schedule,Practice
END:VEVENT
BEGIN:VEVENT
DTSTART;TZID=America/New_York:20240413T080000
DTEND;TZID=America/New_York:20240413T100000
DTSTAMP:20260421T090744
CREATED:20240413T195330Z
LAST-MODIFIED:20240413T195330Z
UID:10000088-1712995200-1713002400@yorktownlacrosse.com
SUMMARY:Varsity Practice
DESCRIPTION:
URL:https://yorktownlacrosse.com/event/varsity-practice-4/
LOCATION:Greenbrier Stadium/YHS Field\, 5200 Yorktown Blvd.\, Arlington\, VA\, 22207
CATEGORIES:Boys Varsity Schedule,Practice
END:VEVENT
BEGIN:VEVENT
DTSTART;TZID=America/New_York:20240413T153000
DTEND;TZID=America/New_York:20240413T171500
DTSTAMP:20260421T090744
CREATED:20240413T202152Z
LAST-MODIFIED:20240413T202152Z
UID:10000096-1713022200-1713028500@yorktownlacrosse.com
SUMMARY:Varsity & JV Practice
DESCRIPTION:
URL:https://yorktownlacrosse.com/event/varsity-jv-practice-25/
LOCATION:Greenbrier Stadium/YHS Field\, 5200 Yorktown Blvd.\, Arlington\, VA\, 22207
CATEGORIES:Boys JV Schedule,Boys Varsity Schedule,Practice
END:VEVENT
BEGIN:VEVENT
DTSTART;TZID=America/New_York:20240415T164500
DTEND;TZID=America/New_York:20240415T174500
DTSTAMP:20260421T090744
CREATED:20240209T201634Z
LAST-MODIFIED:20240430T005747Z
UID:10000043-1713199500-1713203100@yorktownlacrosse.com
SUMMARY:Varsity Game AWAY vs. The Heights Cavaliers (L 10 - 11 OT)
DESCRIPTION:Loss 10 – 11 OT vs. The Heights Cavaliers | ROSTER
URL:https://yorktownlacrosse.com/event/away-cthe-heights-cavaliers/
LOCATION:The Heights School\, 10400 Seven Locks Road\, Potomac\, MD\, 20854
CATEGORIES:Boys Varsity Schedule,Game
END:VEVENT
BEGIN:VEVENT
DTSTART;TZID=America/New_York:20240415T184500
DTEND;TZID=America/New_York:20240415T200000
DTSTAMP:20260421T090744
CREATED:20240413T195750Z
LAST-MODIFIED:20240413T195750Z
UID:10000089-1713206700-1713211200@yorktownlacrosse.com
SUMMARY:JV Practice
DESCRIPTION:
URL:https://yorktownlacrosse.com/event/jv-practice-2/
LOCATION:Greenbrier Stadium/YHS Field\, 5200 Yorktown Blvd.\, Arlington\, VA\, 22207
CATEGORIES:Boys JV Schedule,Practice
END:VEVENT
BEGIN:VEVENT
DTSTART;TZID=America/New_York:20240416T153000
DTEND;TZID=America/New_York:20240416T171500
DTSTAMP:20260421T090744
CREATED:20240413T195854Z
LAST-MODIFIED:20240413T195854Z
UID:10000090-1713281400-1713287700@yorktownlacrosse.com
SUMMARY:Varsity & JV Practice
DESCRIPTION:
URL:https://yorktownlacrosse.com/event/varsity-jv-practice-20/
LOCATION:Greenbrier Stadium/YHS Field\, 5200 Yorktown Blvd.\, Arlington\, VA\, 22207
CATEGORIES:Boys JV Schedule,Boys Varsity Schedule,Practice
END:VEVENT
END:VCALENDAR