BEGIN:VCALENDAR
VERSION:2.0
PRODID:-//Yorktown Lacrosse - ECPv6.15.20//NONSGML v1.0//EN
CALSCALE:GREGORIAN
METHOD:PUBLISH
X-ORIGINAL-URL:https://yorktownlacrosse.com
X-WR-CALDESC:Events for Yorktown Lacrosse
REFRESH-INTERVAL;VALUE=DURATION:PT1H
X-Robots-Tag:noindex
X-PUBLISHED-TTL:PT1H
BEGIN:VTIMEZONE
TZID:America/New_York
BEGIN:DAYLIGHT
TZOFFSETFROM:-0500
TZOFFSETTO:-0400
TZNAME:EDT
DTSTART:20230312T070000
END:DAYLIGHT
BEGIN:STANDARD
TZOFFSETFROM:-0400
TZOFFSETTO:-0500
TZNAME:EST
DTSTART:20231105T060000
END:STANDARD
BEGIN:DAYLIGHT
TZOFFSETFROM:-0500
TZOFFSETTO:-0400
TZNAME:EDT
DTSTART:20240310T070000
END:DAYLIGHT
BEGIN:STANDARD
TZOFFSETFROM:-0400
TZOFFSETTO:-0500
TZNAME:EST
DTSTART:20241103T060000
END:STANDARD
BEGIN:DAYLIGHT
TZOFFSETFROM:-0500
TZOFFSETTO:-0400
TZNAME:EDT
DTSTART:20250309T070000
END:DAYLIGHT
BEGIN:STANDARD
TZOFFSETFROM:-0400
TZOFFSETTO:-0500
TZNAME:EST
DTSTART:20251102T060000
END:STANDARD
BEGIN:DAYLIGHT
TZOFFSETFROM:-0500
TZOFFSETTO:-0400
TZNAME:EDT
DTSTART:20260308T070000
END:DAYLIGHT
BEGIN:STANDARD
TZOFFSETFROM:-0400
TZOFFSETTO:-0500
TZNAME:EST
DTSTART:20261101T060000
END:STANDARD
END:VTIMEZONE
BEGIN:VEVENT
DTSTART;TZID=America/New_York:20240501T153000
DTEND;TZID=America/New_York:20240501T170000
DTSTAMP:20260421T102635
CREATED:20240430T010241Z
LAST-MODIFIED:20240430T010241Z
UID:10000098-1714577400-1714582800@yorktownlacrosse.com
SUMMARY:Varsity & JV Practice @WMS
DESCRIPTION:
URL:https://yorktownlacrosse.com/event/varsity-jv-practice-wms-2/
LOCATION:Williamsburg Middle School\, 3600 N Harrison St.\, Arlington\, 22207\, United States
CATEGORIES:Boys JV Schedule,Boys Varsity Schedule,Practice
END:VEVENT
BEGIN:VEVENT
DTSTART;TZID=America/New_York:20240502T174500
DTEND;TZID=America/New_York:20240502T184500
DTSTAMP:20260421T102635
CREATED:20240209T200157Z
LAST-MODIFIED:20240504T173813Z
UID:10000021-1714671900-1714675500@yorktownlacrosse.com
SUMMARY:JV Game HOME vs. Herndon Hornets (W 16 - 3)
DESCRIPTION:Win 16 – 3 vs. Herndon Hornets | \nVIDEO: https://www.youtube.com/watch?v=3XQwGVdI5Ow | \nROSTER
URL:https://yorktownlacrosse.com/event/home-herndon-hornets/
LOCATION:Greenbrier Stadium/YHS Field\, 5200 Yorktown Blvd.\, Arlington\, VA\, 22207
CATEGORIES:Boys JV Schedule,Game
END:VEVENT
BEGIN:VEVENT
DTSTART;TZID=America/New_York:20240502T191500
DTEND;TZID=America/New_York:20240502T201500
DTSTAMP:20260421T102635
CREATED:20240209T201614Z
LAST-MODIFIED:20240504T174209Z
UID:10000048-1714677300-1714680900@yorktownlacrosse.com
SUMMARY:Varsity Game HOME vs. Herndon Hornets (W 15 - 5)
DESCRIPTION:Win 15 – 5 vs. Herndon Hornets ROSTER | \nVideo:  https://www.youtube.com/watch?v=3XQwGVdI5Ow |  \nCatch the varsity game play-by-play and color commentary from the broadcast crew of Jeff Randles and Joe Pilch! \n\n\n\n\nJoe Pilch \n\nJeff Randles \n\n\n\n \nCelebrating our 2024 Seniors
URL:https://yorktownlacrosse.com/event/home-herndon-hornets-2/
LOCATION:Greenbrier Stadium/YHS Field\, 5200 Yorktown Blvd.\, Arlington\, VA\, 22207
CATEGORIES:Boys Varsity Schedule,Game
END:VEVENT
BEGIN:VEVENT
DTSTART;TZID=America/New_York:20240503T183000
DTEND;TZID=America/New_York:20240503T200000
DTSTAMP:20260421T102635
CREATED:20240430T010347Z
LAST-MODIFIED:20240430T010347Z
UID:10000099-1714761000-1714766400@yorktownlacrosse.com
SUMMARY:Varsity & JV Practice
DESCRIPTION:
URL:https://yorktownlacrosse.com/event/varsity-jv-practice-26/
LOCATION:Greenbrier Stadium/YHS Field\, 5200 Yorktown Blvd.\, Arlington\, VA\, 22207
CATEGORIES:Boys JV Schedule,Boys Varsity Schedule,Practice
END:VEVENT
BEGIN:VEVENT
DTSTART;TZID=America/New_York:20240504T140000
DTEND;TZID=America/New_York:20240504T150000
DTSTAMP:20260421T102635
CREATED:20240317T202932Z
LAST-MODIFIED:20240508T161522Z
UID:10000082-1714831200-1714834800@yorktownlacrosse.com
SUMMARY:JV Game AWAY vs. Bishop O’Connell Knights (W 8 - 3)
DESCRIPTION:Win 8 – 3vs. Bishop O’Connell Knights |NO BUS | \nROSTER |
URL:https://yorktownlacrosse.com/event/jv-game-away/
LOCATION:Bishop O’Connell High School\, 6600 Little Falls Rd.\, Arlington\, VA\, 22213\, United States
CATEGORIES:Boys JV Schedule,Game
END:VEVENT
BEGIN:VEVENT
DTSTART;TZID=America/New_York:20240506T170000
DTEND;TZID=America/New_York:20240506T183000
DTSTAMP:20260421T102635
CREATED:20240508T162205Z
LAST-MODIFIED:20240508T162205Z
UID:10000100-1715014800-1715020200@yorktownlacrosse.com
SUMMARY:Varsity Practice
DESCRIPTION:
URL:https://yorktownlacrosse.com/event/varsity-practice-6/
LOCATION:Greenbrier Stadium/YHS Field\, 5200 Yorktown Blvd.\, Arlington\, VA\, 22207
CATEGORIES:Boys Varsity Schedule,Practice
END:VEVENT
BEGIN:VEVENT
DTSTART;TZID=America/New_York:20240507T153000
DTEND;TZID=America/New_York:20240507T171500
DTSTAMP:20260421T102635
CREATED:20240508T162244Z
LAST-MODIFIED:20240508T162244Z
UID:10000101-1715095800-1715102100@yorktownlacrosse.com
SUMMARY:Varsity Practice
DESCRIPTION:
URL:https://yorktownlacrosse.com/event/varsity-practice-7/
LOCATION:Greenbrier Stadium/YHS Field\, 5200 Yorktown Blvd.\, Arlington\, VA\, 22207
CATEGORIES:Boys Varsity Schedule,Practice
END:VEVENT
BEGIN:VEVENT
DTSTART;TZID=America/New_York:20240508T183000
DTEND;TZID=America/New_York:20240508T193000
DTSTAMP:20260421T102635
CREATED:20240224T213832Z
LAST-MODIFIED:20240509T120540Z
UID:10000062-1715193000-1715196600@yorktownlacrosse.com
SUMMARY:District Tournament - Varsity HOME vs. Marshall Statesman (W 14 - 3)
DESCRIPTION:Win 14 – 3 |\nVideo:  Yorktown Boosters YouTube\nMarshall Varsity Roster
URL:https://yorktownlacrosse.com/event/varsity-district-tournament/
CATEGORIES:Boys Varsity Schedule,Game
END:VEVENT
BEGIN:VEVENT
DTSTART;TZID=America/New_York:20240510T193000
DTEND;TZID=America/New_York:20240510T203000
DTSTAMP:20260421T102635
CREATED:20240224T213936Z
LAST-MODIFIED:20240511T143812Z
UID:10000063-1715369400-1715373000@yorktownlacrosse.com
SUMMARY:District Tournament - Varsity HOME vs. McLean Highlanders (W 10 - 4)
DESCRIPTION:Win 10 – 4 |\nVideo:  YHS Boosters YouTube | \nMcLean Varsity Roster
URL:https://yorktownlacrosse.com/event/varsity-district-tournament-2/
LOCATION:Greenbrier Stadium/YHS Field\, 5200 Yorktown Blvd.\, Arlington\, VA\, 22207
CATEGORIES:Boys Varsity Schedule,Game
END:VEVENT
BEGIN:VEVENT
DTSTART;TZID=America/New_York:20240514T183000
DTEND;TZID=America/New_York:20240514T193000
DTSTAMP:20260421T102635
CREATED:20240516T174437Z
LAST-MODIFIED:20240516T180701Z
UID:10000102-1715711400-1715715000@yorktownlacrosse.com
SUMMARY:District Tournament Championship - Varsity AWAY vs. Langley Saxons (W 15 - 13)
DESCRIPTION:Win 15 – 13 |\nVideo:   NFHS Network |\nLangley Varsity Roster
URL:https://yorktownlacrosse.com/event/district-tournament-championship-varsity-away-vs-langley-w-15-13/
LOCATION:Langley High School\, 6520 Georgetown Pike\, McLean\, VA\, 22101\, United States
CATEGORIES:Boys Varsity Schedule,Game
END:VEVENT
BEGIN:VEVENT
DTSTART;TZID=America/New_York:20240516T173000
DTEND;TZID=America/New_York:20240516T193000
DTSTAMP:20260421T102635
CREATED:20240224T214153Z
LAST-MODIFIED:20240517T153038Z
UID:10000065-1715880600-1715887800@yorktownlacrosse.com
SUMMARY:Northern Region Tournament - Varsity HOME vs. Oakton Cougars (W 13 - 3)
DESCRIPTION:Win 13 – 3 |\nVideo: YHS Boosters YouTube |\nOakton Varsity Roster
URL:https://yorktownlacrosse.com/event/varsity-northern-region-tournament/
LOCATION:Greenbrier Stadium/YHS Field\, 5200 Yorktown Blvd.\, Arlington\, VA\, 22207
CATEGORIES:Boys Varsity Schedule,Game
END:VEVENT
BEGIN:VEVENT
DTSTART;TZID=America/New_York:20240520T193000
DTEND;TZID=America/New_York:20240520T203000
DTSTAMP:20260421T102635
CREATED:20240224T214255Z
LAST-MODIFIED:20240523T153619Z
UID:10000066-1716233400-1716237000@yorktownlacrosse.com
SUMMARY:Northern Region Tournament - Varsity HOME vs. McLean Highlanders (L 7 - 12)
DESCRIPTION:Loss 7 – 12 |\nVideo:  YHS Boosters YouTube |\nMcLean Varsity Roster
URL:https://yorktownlacrosse.com/event/varsity-northern-region-tournament-2/
LOCATION:Greenbrier Stadium/YHS Field\, 5200 Yorktown Blvd.\, Arlington\, VA\, 22207
CATEGORIES:Boys Varsity Schedule,Game
END:VEVENT
BEGIN:VEVENT
DTSTART;VALUE=DATE:20250224
DTEND;VALUE=DATE:20250225
DTSTAMP:20260421T102635
CREATED:20250118T185504Z
LAST-MODIFIED:20250227T221646Z
UID:10000103-1740355200-1740441599@yorktownlacrosse.com
SUMMARY:Start of Spring Sports 2025
DESCRIPTION:From YorktownSports.org: For planning purposes\, most spring sports will begin Monday\, February 24. A detailed tryout schedule will be posted by early February. \nStudents must register online in order to participate and the signed doctor’s page must be dated after May 1\, 2024 to participate in fall sports tryouts. \nMany sports are currently participating in off-season\, optional workouts which are most often publicized on Team App. Students and parents are encouraged to sign up for Team App for all sports they are interested in to find sport-specific information.
URL:https://yorktownlacrosse.com/event/start-of-spring-sports-2025/
LOCATION:Yorktown High School
CATEGORIES:Boys JV Schedule,Boys JV Tryouts,Boys Schedule,Boys Tryouts,Boys Varsity Schedule,Boys Varsity Tryouts,Girls JV Schedule,Girls JV Tryouts,Girls Schedule,Girls Tryouts,Girls Varsity Schedule,Girls Varsity Tryouts
END:VEVENT
BEGIN:VEVENT
DTSTART;TZID=America/New_York:20250224T193000
DTEND;TZID=America/New_York:20250224T213000
DTSTAMP:20260421T102635
CREATED:20250126T204926Z
LAST-MODIFIED:20250227T221715Z
UID:10000176-1740425400-1740432600@yorktownlacrosse.com
SUMMARY:First Day of BLAX Tryouts
DESCRIPTION:Varsity & JV\nMeet in Cafeteria\, then TURF
URL:https://yorktownlacrosse.com/event/first-day-of-blax-tryouts/
LOCATION:Yorktown HS Cafeteria
CATEGORIES:Boys JV Tryouts,Boys Tryouts,Boys Varsity Tryouts
END:VEVENT
BEGIN:VEVENT
DTSTART;TZID=America/New_York:20250224T193000
DTEND;TZID=America/New_York:20250224T213000
DTSTAMP:20260421T102635
CREATED:20250226T154227Z
LAST-MODIFIED:20250227T221727Z
UID:10000179-1740425400-1740432600@yorktownlacrosse.com
SUMMARY:BLAX Tryouts
DESCRIPTION:Both Varsity and JV \n8th – 12 Grades – meet in the cafeteria then go to turf with gear.
URL:https://yorktownlacrosse.com/event/tryouts/
LOCATION:Yorktown HS Cafeteria
CATEGORIES:Boys JV Schedule,Boys JV Tryouts,Boys Schedule,Boys Tryouts,Boys Varsity Schedule,Boys Varsity Tryouts
END:VEVENT
BEGIN:VEVENT
DTSTART;TZID=America/New_York:20250225T200000
DTEND;TZID=America/New_York:20250225T213000
DTSTAMP:20260421T102635
CREATED:20250226T154319Z
LAST-MODIFIED:20250227T221737Z
UID:10000180-1740513600-1740519000@yorktownlacrosse.com
SUMMARY:BLAX Tryouts
DESCRIPTION:Both Varsity and JV
URL:https://yorktownlacrosse.com/event/tryouts-2/
LOCATION:Greenbrier Stadium/YHS Field\, 5200 Yorktown Blvd.\, Arlington\, VA\, 22207
CATEGORIES:Boys JV Schedule,Boys JV Tryouts,Boys Schedule,Boys Tryouts,Boys Varsity Schedule,Boys Varsity Tryouts
END:VEVENT
BEGIN:VEVENT
DTSTART;TZID=America/New_York:20250226T171500
DTEND;TZID=America/New_York:20250226T183000
DTSTAMP:20260421T102635
CREATED:20250226T154408Z
LAST-MODIFIED:20250227T221747Z
UID:10000181-1740590100-1740594600@yorktownlacrosse.com
SUMMARY:BLAX Tryouts
DESCRIPTION:Both Varsity and JV
URL:https://yorktownlacrosse.com/event/tryouts-3/
LOCATION:Greenbrier Stadium/YHS Field\, 5200 Yorktown Blvd.\, Arlington\, VA\, 22207
CATEGORIES:Boys JV Schedule,Boys JV Tryouts,Boys Schedule,Boys Tryouts,Boys Varsity Schedule,Boys Varsity Tryouts
END:VEVENT
BEGIN:VEVENT
DTSTART;TZID=America/New_York:20250227T183000
DTEND;TZID=America/New_York:20250227T200000
DTSTAMP:20260421T102635
CREATED:20250226T154530Z
LAST-MODIFIED:20250227T222133Z
UID:10000182-1740681000-1740686400@yorktownlacrosse.com
SUMMARY:BLAX Practice
DESCRIPTION:
URL:https://yorktownlacrosse.com/event/practice/
LOCATION:Greenbrier Stadium/YHS Field\, 5200 Yorktown Blvd.\, Arlington\, VA\, 22207
CATEGORIES:Boys JV Schedule,Boys Schedule,Boys Varsity Schedule,Practice
END:VEVENT
BEGIN:VEVENT
DTSTART;TZID=America/New_York:20250228T180000
DTEND;TZID=America/New_York:20250228T193000
DTSTAMP:20260421T102635
CREATED:20250226T155121Z
LAST-MODIFIED:20250228T161138Z
UID:10000184-1740765600-1740771000@yorktownlacrosse.com
SUMMARY:2025 Face off BLAX Meeting and Dinner
DESCRIPTION:For Parents and Players on both Varsity and JV. \nReview the SUG for volunteers and food.
URL:https://yorktownlacrosse.com/event/2025-face-off-lax-meeting-and-dinner/
LOCATION:Yorktown HS Cafeteria
CATEGORIES:Boys JV Schedule,Boys Schedule,Boys Varsity Schedule,Team Dinner
END:VEVENT
BEGIN:VEVENT
DTSTART;TZID=America/New_York:20250228T200000
DTEND;TZID=America/New_York:20250228T213000
DTSTAMP:20260421T102635
CREATED:20250226T154611Z
LAST-MODIFIED:20250227T222133Z
UID:10000183-1740772800-1740778200@yorktownlacrosse.com
SUMMARY:BLAX Practice
DESCRIPTION:
URL:https://yorktownlacrosse.com/event/practice-2/
LOCATION:Greenbrier Stadium/YHS Field\, 5200 Yorktown Blvd.\, Arlington\, VA\, 22207
CATEGORIES:Boys JV Schedule,Boys Schedule,Boys Varsity Schedule,Practice
END:VEVENT
BEGIN:VEVENT
DTSTART;TZID=America/New_York:20250301T080000
DTEND;TZID=America/New_York:20250301T100000
DTSTAMP:20260421T102635
CREATED:20250226T161128Z
LAST-MODIFIED:20250227T222200Z
UID:10000185-1740816000-1740823200@yorktownlacrosse.com
SUMMARY:BLAX Practice (V Only)
DESCRIPTION:
URL:https://yorktownlacrosse.com/event/blax-practice-v-only-2/
LOCATION:Greenbrier Stadium/YHS Field\, 5200 Yorktown Blvd.\, Arlington\, VA\, 22207
CATEGORIES:Boys Schedule,Boys Varsity Schedule,Practice
END:VEVENT
BEGIN:VEVENT
DTSTART;TZID=America/New_York:20250303T183000
DTEND;TZID=America/New_York:20250303T200000
DTSTAMP:20260421T102635
CREATED:20250226T161206Z
LAST-MODIFIED:20250227T222133Z
UID:10000186-1741026600-1741032000@yorktownlacrosse.com
SUMMARY:BLAX Practice
DESCRIPTION:
URL:https://yorktownlacrosse.com/event/blax-practice/
LOCATION:Greenbrier Stadium/YHS Field\, 5200 Yorktown Blvd.\, Arlington\, VA\, 22207
CATEGORIES:Boys JV Schedule,Boys Schedule,Boys Varsity Schedule,Practice
END:VEVENT
BEGIN:VEVENT
DTSTART;TZID=America/New_York:20250304T200000
DTEND;TZID=America/New_York:20250304T213000
DTSTAMP:20260421T102635
CREATED:20250226T161439Z
LAST-MODIFIED:20250227T222133Z
UID:10000187-1741118400-1741123800@yorktownlacrosse.com
SUMMARY:BLAX Practice
DESCRIPTION:
URL:https://yorktownlacrosse.com/event/blax-practice-2/
LOCATION:Greenbrier Stadium/YHS Field\, 5200 Yorktown Blvd.\, Arlington\, VA\, 22207
CATEGORIES:Boys JV Schedule,Boys Schedule,Boys Varsity Schedule,Practice
END:VEVENT
BEGIN:VEVENT
DTSTART;TZID=America/New_York:20250305T174500
DTEND;TZID=America/New_York:20250305T190000
DTSTAMP:20260421T102635
CREATED:20250226T162021Z
LAST-MODIFIED:20250227T222133Z
UID:10000188-1741196700-1741201200@yorktownlacrosse.com
SUMMARY:BLAX Practice
DESCRIPTION:
URL:https://yorktownlacrosse.com/event/blax-practice-3/
LOCATION:Greenbrier Stadium/YHS Field\, 5200 Yorktown Blvd.\, Arlington\, VA\, 22207
CATEGORIES:Boys JV Schedule,Boys Schedule,Boys Varsity Schedule,Practice
END:VEVENT
BEGIN:VEVENT
DTSTART;TZID=America/New_York:20250306T183000
DTEND;TZID=America/New_York:20250306T210000
DTSTAMP:20260421T102635
CREATED:20250226T162055Z
LAST-MODIFIED:20250227T222133Z
UID:10000189-1741285800-1741294800@yorktownlacrosse.com
SUMMARY:BLAX Practice
DESCRIPTION:
URL:https://yorktownlacrosse.com/event/blax-practice-4/
LOCATION:Greenbrier Stadium/YHS Field\, 5200 Yorktown Blvd.\, Arlington\, VA\, 22207
CATEGORIES:Boys JV Schedule,Boys Schedule,Boys Varsity Schedule,Practice
END:VEVENT
BEGIN:VEVENT
DTSTART;TZID=America/New_York:20250307T184500
DTEND;TZID=America/New_York:20250307T203000
DTSTAMP:20260421T102635
CREATED:20250226T162432Z
LAST-MODIFIED:20250227T222133Z
UID:10000190-1741373100-1741379400@yorktownlacrosse.com
SUMMARY:BLAX Practice
DESCRIPTION:
URL:https://yorktownlacrosse.com/event/blax-practice-5/
LOCATION:Greenbrier Stadium/YHS Field\, 5200 Yorktown Blvd.\, Arlington\, VA\, 22207
CATEGORIES:Boys JV Schedule,Boys Schedule,Boys Varsity Schedule,Practice
END:VEVENT
BEGIN:VEVENT
DTSTART;TZID=America/New_York:20250308T080000
DTEND;TZID=America/New_York:20250308T100000
DTSTAMP:20260421T102635
CREATED:20250226T162523Z
LAST-MODIFIED:20250227T222200Z
UID:10000191-1741420800-1741428000@yorktownlacrosse.com
SUMMARY:BLAX Practice (V Only)
DESCRIPTION:
URL:https://yorktownlacrosse.com/event/blax-practice-v-only-3/
LOCATION:Greenbrier Stadium/YHS Field\, 5200 Yorktown Blvd.\, Arlington\, VA\, 22207
CATEGORIES:Boys JV Schedule,Boys Schedule,Boys Varsity Schedule,Practice
END:VEVENT
BEGIN:VEVENT
DTSTART;TZID=America/New_York:20250309T180000
DTEND;TZID=America/New_York:20250309T200000
DTSTAMP:20260421T102635
CREATED:20250228T161305Z
LAST-MODIFIED:20250228T161816Z
UID:10000202-1741543200-1741550400@yorktownlacrosse.com
SUMMARY:BLAX JV Team Dinner
DESCRIPTION:Players\, Parents\, and coaches welcome\nFood provided\nCash bar for parents\nBring quarters for arcade games
URL:https://yorktownlacrosse.com/event/blax-jv-team-dinner/
LOCATION:Solace Outpost\, 444 W. Broad St.\, Falls Church\, VA\, 22046
CATEGORIES:Boys JV Schedule,Boys Schedule,Team Dinner,Team Event
END:VEVENT
BEGIN:VEVENT
DTSTART;TZID=America/New_York:20250310T170000
DTEND;TZID=America/New_York:20250310T183000
DTSTAMP:20260421T102635
CREATED:20250226T162603Z
LAST-MODIFIED:20250227T222132Z
UID:10000192-1741626000-1741631400@yorktownlacrosse.com
SUMMARY:BLAX Practice
DESCRIPTION:
URL:https://yorktownlacrosse.com/event/blax-practice-6/
LOCATION:Greenbrier Stadium/YHS Field\, 5200 Yorktown Blvd.\, Arlington\, VA\, 22207
CATEGORIES:Boys JV Schedule,Boys Schedule,Boys Varsity Schedule,Practice
END:VEVENT
BEGIN:VEVENT
DTSTART;TZID=America/New_York:20250311T173000
DTEND;TZID=America/New_York:20250311T183000
DTSTAMP:20260421T102635
CREATED:20250120T021619Z
LAST-MODIFIED:20250310T173155Z
UID:10000145-1741714200-1741717800@yorktownlacrosse.com
SUMMARY:BLAX JV Scrimmage AWAY vs. West Potomac and Hayfield
DESCRIPTION:DEPART AT 3:45PM \nWest Potomac ROSTER & Hayfield ROSTER | Video
URL:https://yorktownlacrosse.com/event/blax-jv-game-away-vs-west-potomac-and-hayfield/
LOCATION:Hayfield High School\, 7630 Telegraph Rd\, Alexandria\, VA\, 22315
CATEGORIES:Boys JV Schedule,Scrimmage
END:VEVENT
END:VCALENDAR