BEGIN:VCALENDAR
VERSION:2.0
PRODID:-//Yorktown Lacrosse - ECPv6.15.20//NONSGML v1.0//EN
CALSCALE:GREGORIAN
METHOD:PUBLISH
X-ORIGINAL-URL:https://yorktownlacrosse.com
X-WR-CALDESC:Events for Yorktown Lacrosse
REFRESH-INTERVAL;VALUE=DURATION:PT1H
X-Robots-Tag:noindex
X-PUBLISHED-TTL:PT1H
BEGIN:VTIMEZONE
TZID:America/New_York
BEGIN:DAYLIGHT
TZOFFSETFROM:-0500
TZOFFSETTO:-0400
TZNAME:EDT
DTSTART:20230312T070000
END:DAYLIGHT
BEGIN:STANDARD
TZOFFSETFROM:-0400
TZOFFSETTO:-0500
TZNAME:EST
DTSTART:20231105T060000
END:STANDARD
BEGIN:DAYLIGHT
TZOFFSETFROM:-0500
TZOFFSETTO:-0400
TZNAME:EDT
DTSTART:20240310T070000
END:DAYLIGHT
BEGIN:STANDARD
TZOFFSETFROM:-0400
TZOFFSETTO:-0500
TZNAME:EST
DTSTART:20241103T060000
END:STANDARD
BEGIN:DAYLIGHT
TZOFFSETFROM:-0500
TZOFFSETTO:-0400
TZNAME:EDT
DTSTART:20250309T070000
END:DAYLIGHT
BEGIN:STANDARD
TZOFFSETFROM:-0400
TZOFFSETTO:-0500
TZNAME:EST
DTSTART:20251102T060000
END:STANDARD
END:VTIMEZONE
BEGIN:VEVENT
DTSTART;TZID=America/New_York:20240219T181500
DTEND;TZID=America/New_York:20240219T210000
DTSTAMP:20260421T073015
CREATED:20240209T222007Z
LAST-MODIFIED:20240224T000456Z
UID:10000049-1708366500-1708376400@yorktownlacrosse.com
SUMMARY:Lacrosse Tryout - First Day
DESCRIPTION:Spring sports (baseball\, softball\, soccer\, lacrosse\, tennis crew) begin on February 19 and track on February 26. Parents must complete the online Registration and upload their child’s required doctor’s examination form by February 14th. Paper copies of the required doctor’s examination form will not be accepted at tryouts.  \nStudents who don’t attend Yorktown (middle school 8th graders\, HB\, ACC\, etc.) will need to email Mary Ann Mahan at maryann.mahan@apsva.usto be added to the registration system before registering online.  \nThe first day tryout information can be found here. Tryouts will continue for at least three days and often through the first full week. A tentative rectangular turf practice schedule for the first two weeks can be found here for soccer and lacrosse\, however\, this is subject to change and coaches will likely want players to arrive before the time scheduled on the turf or stay after for conditioning. Players should listen to announcements made by their coaches and on TeamApp. This schedule is provided as a courtesy for planning purposes only.  \nPlease note that tryouts and practices will be held on school holidays such as Presidents’ Day (February 19th). Students can join www.teamapp.com for sport specific tryout information which will be posted as it becomes available.  \nPlease make sure to register on the new athletic registration site before attending any off-season activities or tryouts (see information above).
URL:https://yorktownlacrosse.com/event/boys-lacrosse/
LOCATION:Yorktown HS Cafeteria
CATEGORIES:Boys JV Tryouts,Boys Tryouts,Boys Varsity Tryouts
END:VEVENT
BEGIN:VEVENT
DTSTART;TZID=America/New_York:20240223T193000
DTEND;TZID=America/New_York:20240223T213000
DTSTAMP:20260421T073015
CREATED:20240223T185510Z
LAST-MODIFIED:20240224T020704Z
UID:10000051-1708716600-1708723800@yorktownlacrosse.com
SUMMARY:Varsity & JV Practice
DESCRIPTION:
URL:https://yorktownlacrosse.com/event/varsity-jv-practice/
LOCATION:Greenbrier Stadium/YHS Field\, 5200 Yorktown Blvd.\, Arlington\, VA\, 22207
CATEGORIES:Boys JV Schedule,Boys Varsity Schedule,Practice
END:VEVENT
BEGIN:VEVENT
DTSTART;TZID=America/New_York:20240224T080000
DTEND;TZID=America/New_York:20240224T100000
DTSTAMP:20260421T073015
CREATED:20240223T185632Z
LAST-MODIFIED:20240224T215948Z
UID:10000052-1708761600-1708768800@yorktownlacrosse.com
SUMMARY:Varsity Practice
DESCRIPTION:
URL:https://yorktownlacrosse.com/event/varsity-jv-practice-2/
LOCATION:Greenbrier Stadium/YHS Field\, 5200 Yorktown Blvd.\, Arlington\, VA\, 22207
CATEGORIES:Boys Varsity Schedule,Practice
END:VEVENT
BEGIN:VEVENT
DTSTART;TZID=America/New_York:20240226T200000
DTEND;TZID=America/New_York:20240226T213000
DTSTAMP:20260421T073015
CREATED:20240223T201736Z
LAST-MODIFIED:20240224T215905Z
UID:10000053-1708977600-1708983000@yorktownlacrosse.com
SUMMARY:Varsity & JV Practice
DESCRIPTION:
URL:https://yorktownlacrosse.com/event/varsity-jv-practice-3/
LOCATION:Greenbrier Stadium/YHS Field\, 5200 Yorktown Blvd.\, Arlington\, VA\, 22207
CATEGORIES:Boys JV Schedule,Boys Varsity Schedule,Practice
END:VEVENT
BEGIN:VEVENT
DTSTART;TZID=America/New_York:20240227T153000
DTEND;TZID=America/New_York:20240227T170000
DTSTAMP:20260421T073015
CREATED:20240224T001611Z
LAST-MODIFIED:20240224T215856Z
UID:10000054-1709047800-1709053200@yorktownlacrosse.com
SUMMARY:Varsity & JV Practice
DESCRIPTION:
URL:https://yorktownlacrosse.com/event/varsity-jv-practice-4/
LOCATION:Greenbrier Stadium/YHS Field\, 5200 Yorktown Blvd.\, Arlington\, VA\, 22207
CATEGORIES:Boys JV Schedule,Boys Varsity Schedule,Practice
END:VEVENT
BEGIN:VEVENT
DTSTART;TZID=America/New_York:20240227T173000
DTEND;TZID=America/New_York:20240227T183000
DTSTAMP:20260421T073015
CREATED:20240223T184535Z
LAST-MODIFIED:20240224T215845Z
UID:10000050-1709055000-1709058600@yorktownlacrosse.com
SUMMARY:Varsity & JV Lacrosse Kickoff Dinner
DESCRIPTION:We are starting off our season with a dinner and intro meeting on Tuesday 2/27 at 5:30 pm. \nBoosters is providing food from Pie Tanza but we could use some help with additional items – sides\, desserts\, drinks\, and coolers etc. please see the sign up below. \nhttps://m.signupgenius.com/#!/showSignUp/5080A48A4AB2DA75-47400951-2024 \nWe could also use help with set up and clean up – feel free to sign your boys up for that.
URL:https://yorktownlacrosse.com/event/varsity-and-jv-lacrosse-kickoff-dinner/
LOCATION:Yorktown HS Cafeteria
CATEGORIES:Boys JV Schedule,Boys Varsity Schedule,Team Dinner
END:VEVENT
BEGIN:VEVENT
DTSTART;TZID=America/New_York:20240228T173000
DTEND;TZID=America/New_York:20240228T183000
DTSTAMP:20260421T073015
CREATED:20240209T195052Z
LAST-MODIFIED:20240307T152133Z
UID:10000007-1709141400-1709145000@yorktownlacrosse.com
SUMMARY:JV Scrimmage AWAY vs. Battlefield Bobcats
DESCRIPTION:ROSTER | Video:  https://www.nfhsnetwork.com/events/battlefield-high-school-haymarket-va/gam26aa564028
URL:https://yorktownlacrosse.com/event/away-battlefield-bobcats/
LOCATION:Battlefield High School\, 15000 Graduation Dr.\, Haymarket\, VA\, 20169
CATEGORIES:Boys JV Schedule,Scrimmage
END:VEVENT
BEGIN:VEVENT
DTSTART;TZID=America/New_York:20240228T191500
DTEND;TZID=America/New_York:20240228T201500
DTSTAMP:20260421T073015
CREATED:20240224T033921Z
LAST-MODIFIED:20240307T152150Z
UID:10000059-1709147700-1709151300@yorktownlacrosse.com
SUMMARY:Varsity Scrimmage AWAY vs. Battlefield Bobcats
DESCRIPTION:ROSTER   | Video: https://www.nfhsnetwork.com/events/battlefield-high-school-haymarket-va/gam97433a2cd6
URL:https://yorktownlacrosse.com/event/varsity-scrimmage-away/
LOCATION:Battlefield High School\, 15000 Graduation Dr.\, Haymarket\, VA\, 20169
CATEGORIES:Boys Varsity Schedule,Scrimmage
END:VEVENT
BEGIN:VEVENT
DTSTART;TZID=America/New_York:20240229T170000
DTEND;TZID=America/New_York:20240229T183000
DTSTAMP:20260421T073015
CREATED:20240224T002052Z
LAST-MODIFIED:20240224T215756Z
UID:10000055-1709226000-1709231400@yorktownlacrosse.com
SUMMARY:Varsity & JV Practice
DESCRIPTION:
URL:https://yorktownlacrosse.com/event/varsity-jv-practice-5/
LOCATION:Greenbrier Stadium/YHS Field\, 5200 Yorktown Blvd.\, Arlington\, VA\, 22207
CATEGORIES:Boys JV Schedule,Boys Varsity Schedule,Practice
END:VEVENT
END:VCALENDAR